Uber Exif Photo
Make : LEICA CAMERA AG
Camera Model Name : LEICA Q (Typ 116)
Software : Adobe Photoshop Lightroom Classic 9.2.1 (Macintosh)
Modify Date : 2020:05:01 15:22:18
Artist : Francis DeRespinis
Copyright : © 2017 Francis DeRespinis. All Rights Reserved.
Exposure Time : 1/500
F Number : 6.3
Exposure Program : Aperture-priority AE
ISO : 200
Sensitivity Type : Standard Output Sensitivity
Date/Time Original : 2017:09:30 15:02:41
Create Date : 2017:09:30 15:02:41
Shutter Speed Value : 1/500
Aperture Value : 6.3
Exposure Compensation : -1
Max Aperture Value : 1.7
Metering Mode : Multi-segment
Light Source : Unknown
Flash : Off, Did not fire
Focal Length : 28.0 mm
User Comment : PS Removed distracting people
Color Space : sRGB
Sensing Method : One-chip color area
Custom Rendered : Normal
White Balance : Auto
Digital Zoom Ratio : 1
Focal Length In 35mm Format : 28 mm
Scene Capture Type : Standard
Contrast : Normal
Saturation : Normal
Sharpness : Normal
Serial Number : 4976914
Lens Info : 28mm f/1.53125
Lens Make : LEICA CAMERA AG
Lens Model : 28.0 mm f/1.7
Lens Serial Number : N/A
Keywords : B&W / Monochrome, Leica, New York, People
Special Instructions : © 2017 Francis DeRespinis. All Rights Reserved For Usage and fees, please email at franman (at) mindspring (dot) com or contact me at 1-919-233-1764 before 9:00 PM EST
By-line : Francis DeRespinis
Copyright Notice : © 2017 Francis DeRespinis. All Rights Reserved.
Copyright Flag : True
Profile Description : sRGB IEC61966-2.1
Creator Tool : Adobe Photoshop Lightroom Classic 9.2.1 (Macintosh)
Rating : 3
Lens : 28.0 mm f/1.7
Distortion Correction Already Applied : True
Lateral Chromatic Aberration Correction Already Applied:
True
Date Created : 2017:09:30 15:02:41
Source : Francis DeRespinis
Credit : © 2017 Francis DeRespinis. All Rights Reserved
Instructions : © 2017 Francis DeRespinis. All Rights Reserved For Usage and fees, please email at franman (at) mindspring (dot) com or contact me at 1-919-233-1764 before 9:00 PM EST
Format : image/jpeg
Marked : True
Raw File Name :
Version : 12.2.1
Process Version : 6.7
Incremental Temperature : 0
Incremental Tint : 0
Luminance Smoothing : 30
Color Noise Reduction : 0
Vignette Amount : 0
Shadow Tint : 0
Red Hue : 0
Red Saturation : 0
Green Hue : 0
Green Saturation : 0
Blue Hue : 0
Blue Saturation : 0
Gray Mixer Red : +21
Gray Mixer Orange : +50
Gray Mixer Yellow : +100
Gray Mixer Green : +100
Gray Mixer Aqua : +78
Gray Mixer Blue : -100
Gray Mixer Purple : -8
Gray Mixer Magenta : +64
Split Toning Shadow Hue : 0
Split Toning Shadow Saturation : 0
Split Toning Highlight Hue : 0
Split Toning Highlight Saturation : 0
Split Toning Balance : 0
Parametric Shadows : -14
Parametric Darks : -3
Parametric Lights : 0
Parametric Highlights : 0
Parametric Shadow Split : 25
Parametric Midtone Split : 50
Parametric Highlight Split : 75
Sharpen Radius : +1.0
Sharpen Detail : 25
Sharpen Edge Masking : 0
Post Crop Vignette Amount : -20
Post Crop Vignette Midpoint : 45
Post Crop Vignette Feather : 66
Post Crop Vignette Roundness : +15
Post Crop Vignette Style : Highlight Priority
Post Crop Vignette Highlight Contrast : 0
Grain Amount : 0
Luminance Noise Reduction Detail : 50
Luminance Noise Reduction Contrast : 0
Lens Profile Enable : 0
Lens Manual Distortion Amount : 0
Perspective Vertical : 0
Perspective Horizontal : 0
Perspective Rotate : 0.0
Perspective Scale : 100
Perspective Aspect : 0
Perspective Upright : Off
Perspective X : 0.00
Perspective Y : 0.00
Auto Lateral CA : 0
Exposure 2012 : -0.25
Contrast 2012 : +19
Highlights 2012 : -33
Shadows 2012 : +55
Whites 2012 : +4
Blacks 2012 : +1
Clarity 2012 : +32
Dehaze : 0
Texture : 0
Tone Map Strength : 0
Convert To Grayscale : True
Override Look Vignette : False
Tone Curve Name : Linear
Tone Curve Name 2012 : Linear
Camera Profile : Embedded
Lens Profile Setup : LensDefaults
Has Settings : True
Crop Top : 0.03271
Crop Left : 0.049592
Crop Bottom : 0.983118
Crop Right : 1
Crop Angle : 0
Crop Constrain To Warp : 0
Has Crop : True
Already Applied : True
Creator : Francis DeRespinis
Rights : © 2017 Francis DeRespinis. All Rights Reserved.
Subject : B&W / Monochrome, Leica, New York, People
Usage Terms : No rights granted without prior written permission
Creator Postal Code : 27606
Creator Work Telephone : 1-919-233-1764
Creator Region : North Carolina
Creator Country : USA
Creator City : Raleigh
Creator Work Email : franman (at) mindspring (dot) com
Creator Address : 5104 Pine Drive
Tone Curve : 0, 0, 255, 255
Tone Curve Red : 0, 0, 255, 255
Tone Curve Green : 0, 0, 255, 255
Tone Curve Blue : 0, 0, 255, 255
Tone Curve PV2012 : 0, 0, 255, 255
Tone Curve PV2012 Red : 0, 0, 255, 255
Tone Curve PV2012 Green : 0, 0, 255, 255
Tone Curve PV2012 Blue : 0, 0, 255, 255
Paint Correction Range Mask Version : +1, +1, +1, +1, +1
Paint Correction Range Mask Type : 0, 0, 0, 0, 0
Paint Correction Range Mask Color Amount : 0.500000, 0.500000, 0.500000, 0.500000, 0.500000
Paint Correction Range Mask Lum Min : 0.000000, 0.000000, 0.000000, 0.000000, 0.000000
Paint Correction Range Mask Lum Max : 1.000000, 1.000000, 1.000000, 1.000000, 1.000000
Paint Correction Range Mask Lum Feather : 0.500000, 0.500000, 0.500000, 0.500000, 0.500000
Paint Correction Range Mask Depth Min : 0.000000, 0.000000, 0.000000, 0.000000, 0.000000
Paint Correction Range Mask Depth Max : 1.000000, 1.000000, 1.000000, 1.000000, 1.000000
Paint Correction Range Mask Depth Feather : 0.500000, 0.500000, 0.500000, 0.500000, 0.500000
Paint Correction What : Correction
Paint Correction Amount : 1.000000
Paint Correction Active : true
Paint Correction Saturation : 0.000000
Paint Correction Sharpness : 0.000000
Paint Correction Brightness : 0.000000
Paint Correction Toning Hue : 240.000000
Paint Correction Toning Saturation : 0.000000
Paint Correction Exposure 2012 : -0.075000
Paint Correction Contrast 2012 : 0.000000
Paint Correction Highlights 2012 : -0.608654
Paint Correction Shadows 2012 : 0.000000
Paint Correction Whites 2012 : 0.000000
Paint Correction Blacks 2012 : 0.000000
Paint Correction Clarity 2012 : 0.000000
Paint Correction Dehaze : 0.000000
Paint Correction Luminance Noise : 0.000000
Paint Correction Moire : 0.000000
Paint Correction Defringe : 0.000000
Paint Correction Temperature : 0.000000
Paint Correction Tint : 0.000000
Paint Correction Mask What : Mask/Paint
Paint Correction Mask Value : 1.000000
Paint Correction Mask Radius : 0.009846
Paint Correction Mask Flow : 1.000000
Paint Correction Mask Center Weight : 0.086724
Look Name :
Image Width : 400
Image Height : 267
Bits Per Sample : 8
Color Components : 3
Aperture : 6.3
Image Size : 400x267
Megapixels : 0.107
Scale Factor To 35 mm Equivalent : 1.0
Shutter Speed : 1/500
Modify Date : 2020:05:01 15:22:18-04:00
Circle Of Confusion : 0.030 mm
Field Of View : 65.5 deg
Focal Length : 28.0 mm (35 mm equivalent: 28.0 mm)
Hyperfocal Distance : 4.14 m
Light Value : 13.3
Lens ID : 28.0mm f/1.7
Display settings: ORIGINAL format thumbnails | Fast loading WEBP thumbnails
Use Display settings menu option from the top menu to change