Uber Exif Photo
Make : LEICA CAMERA AG
Camera Model Name : LEICA Q (Typ 116)
Software : Adobe Photoshop Lightroom Classic 9.2.1 (Macintosh)
Modify Date : 2020:05:01 15:22:11
Artist : Francis DeRespinis
Copyright : © 2017 Francis DeRespinis. All Rights Reserved.
Exposure Time : 1/60
F Number : 2.5
Exposure Program : Aperture-priority AE
ISO : 800
Sensitivity Type : Standard Output Sensitivity
Date/Time Original : 2017:10:02 11:29:31
Create Date : 2017:10:02 11:29:31
Shutter Speed Value : 1/60
Aperture Value : 2.5
Exposure Compensation : -1
Max Aperture Value : 1.7
Metering Mode : Multi-segment
Light Source : Unknown
Flash : Off, Did not fire
Focal Length : 28.0 mm
Color Space : sRGB
Sensing Method : One-chip color area
Custom Rendered : Normal
White Balance : Auto
Digital Zoom Ratio : 1
Focal Length In 35mm Format : 28 mm
Scene Capture Type : Standard
Contrast : Normal
Saturation : Normal
Sharpness : Normal
Serial Number : 4976914
Lens Info : 28mm f/1.53125
Lens Make : LEICA CAMERA AG
Lens Model : 28.0 mm f/1.7
Lens Serial Number : N/A
Keywords : Leica, New York
Special Instructions : © 2017 Francis DeRespinis. All Rights Reserved For Usage and fees, please email at franman (at) mindspring (dot) com or contact me at 1-919-233-1764 before 9:00 PM EST
By-line : Francis DeRespinis
Copyright Notice : © 2017 Francis DeRespinis. All Rights Reserved.
Copyright Flag : True
Profile Description : sRGB IEC61966-2.1
Rating : 3
Creator Tool : Adobe Photoshop Lightroom Classic 9.2.1 (Macintosh)
Lens : 28.0 mm f/1.7
Distortion Correction Already Applied : True
Lateral Chromatic Aberration Correction Already Applied:
True
Date Created : 2017:10:02 11:29:31
Source : Francis DeRespinis
Credit : © 2017 Francis DeRespinis. All Rights Reserved
Instructions : © 2017 Francis DeRespinis. All Rights Reserved For Usage and fees, please email at franman (at) mindspring (dot) com or contact me at 1-919-233-1764 before 9:00 PM EST
Preserved File Name : 20171002-1129L1010945.DNG
Format : image/jpeg
Marked : True
Raw File Name :
Version : 12.2.1
Process Version : 11.0
Color Temperature : 3100
Tint : +15
Luminance Smoothing : 0
Color Noise Reduction : 25
Vignette Amount : 0
Shadow Tint : 0
Red Hue : 0
Red Saturation : 0
Green Hue : 0
Green Saturation : 0
Blue Hue : 0
Blue Saturation : 0
Gray Mixer Red : -12
Gray Mixer Orange : -21
Gray Mixer Yellow : -25
Gray Mixer Green : -28
Gray Mixer Aqua : -16
Gray Mixer Blue : +15
Gray Mixer Purple : +19
Gray Mixer Magenta : +4
Split Toning Shadow Hue : 0
Split Toning Shadow Saturation : 0
Split Toning Highlight Hue : 0
Split Toning Highlight Saturation : 0
Split Toning Balance : 0
Parametric Shadows : -14
Parametric Darks : -3
Parametric Lights : 0
Parametric Highlights : 0
Parametric Shadow Split : 25
Parametric Midtone Split : 50
Parametric Highlight Split : 75
Sharpen Radius : +1.0
Sharpen Detail : 50
Sharpen Edge Masking : 15
Post Crop Vignette Amount : 0
Grain Amount : 0
Color Noise Reduction Detail : 50
Color Noise Reduction Smoothness : 50
Lens Profile Enable : 0
Lens Manual Distortion Amount : 0
Perspective Vertical : 0
Perspective Horizontal : 0
Perspective Rotate : 0.0
Perspective Scale : 100
Perspective Aspect : 0
Perspective Upright : Off
Perspective X : 0.00
Perspective Y : 0.00
Auto Lateral CA : 0
Exposure 2012 : 0.00
Contrast 2012 : +29
Highlights 2012 : -33
Shadows 2012 : +55
Whites 2012 : +40
Blacks 2012 : 0
Clarity 2012 : +40
Dehaze : 0
Texture : 0
Tone Map Strength : 0
Convert To Grayscale : True
Override Look Vignette : False
Tone Curve Name : Linear
Tone Curve Name 2012 : Linear
Camera Profile : Adobe Standard
Lens Profile Setup : LensDefaults
Has Settings : True
Crop Top : 0.027829
Crop Left : 0.18893
Crop Bottom : 0.962496
Crop Right : 1
Crop Angle : 0
Crop Constrain To Warp : 0
Has Crop : True
Already Applied : True
Creator : Francis DeRespinis
Rights : © 2017 Francis DeRespinis. All Rights Reserved.
Subject : Leica, New York
Usage Terms : No rights granted without prior written permission
Creator Postal Code : 27606
Creator Work Telephone : 1-919-233-1764
Creator Region : North Carolina
Creator Country : USA
Creator City : Raleigh
Creator Work Email : franman (at) mindspring (dot) com
Creator Address : 5104 Pine Drive
Tone Curve : 0, 0, 255, 255
Tone Curve Red : 0, 0, 255, 255
Tone Curve Green : 0, 0, 255, 255
Tone Curve Blue : 0, 0, 255, 255
Tone Curve PV2012 : 0, 0, 255, 255
Tone Curve PV2012 Red : 0, 0, 255, 255
Tone Curve PV2012 Green : 0, 0, 255, 255
Tone Curve PV2012 Blue : 0, 0, 255, 255
Paint Correction What : Correction
Paint Correction Amount : 1.000000
Paint Correction Active : true
Paint Correction Saturation : 0.000000
Paint Correction Sharpness : 0.000000
Paint Correction Brightness : 0.000000
Paint Correction Toning Hue : 240.000000
Paint Correction Toning Saturation : 0.000000
Paint Correction Exposure 2012 : -0.075000
Paint Correction Contrast 2012 : 0.000000
Paint Correction Highlights 2012 : 0.000000
Paint Correction Shadows 2012 : 0.000000
Paint Correction Whites 2012 : 0.000000
Paint Correction Blacks 2012 : 0.000000
Paint Correction Clarity 2012 : 0.000000
Paint Correction Dehaze : 0.000000
Paint Correction Luminance Noise : 0.000000
Paint Correction Moire : 0.000000
Paint Correction Defringe : 0.000000
Paint Correction Temperature : 0.000000
Paint Correction Tint : 0.000000
Paint Correction Texture : 0.000000
Paint Correction Mask What : Mask/Paint
Paint Correction Mask Value : 1.000000
Paint Correction Mask Radius : 0.063144
Paint Correction Mask Flow : 1.000000
Paint Correction Mask Center Weight : 0.029800
Paint Correction Range Mask Version : +2
Paint Correction Range Mask Type : 0
Paint Correction Range Mask Color Amount : 0.500000
Paint Correction Range Mask Lum Min : 0.000000
Paint Correction Range Mask Lum Max : 1.000000
Paint Correction Range Mask Lum Feather : 0.500000
Paint Correction Range Mask Depth Min : 0.000000
Paint Correction Range Mask Depth Max : 1.000000
Paint Correction Range Mask Depth Feather : 0.500000
Look Name : B&W 01
Look Amount : 1.500000
Look Cluster : Adobe
Look Supports Monochrome : false
Look Sort Name : B&W 01
Look Group : B&W
Look Parameters Version : 12.2.1
Look Parameters Process Version : 11.0
Look Parameters Contrast 2012 : +33
Look Parameters Highlights 2012 : -40
Look Parameters Shadows 2012 : +45
Look Parameters Blacks 2012 : -10
Look Parameters Clarity 2012 : +8
Look Parameters Convert To Grayscale : True
Look Parameters Look Table : 62CE423BDCA099FE0B786CA01EB606B0
Look Parameters Tone Curve PV2012 : 0, 0, 17, 17, 34, 36, 51, 55, 68, 75, 85, 96, 102, 116, 119, 136, 136, 154, 153, 171, 170, 187, 187, 202, 204, 216, 221, 230, 238, 242, 255, 255
Look Parameters Tone Curve PV2012 Red : 0, 0, 255, 255
Look Parameters Tone Curve PV2012 Green : 0, 0, 255, 255
Look Parameters Tone Curve PV2012 Blue : 0, 0, 255, 255
Image Width : 400
Image Height : 308
Bits Per Sample : 8
Color Components : 3
Aperture : 2.5
Image Size : 400x308
Megapixels : 0.123
Scale Factor To 35 mm Equivalent : 1.0
Shutter Speed : 1/60
Modify Date : 2020:05:01 15:22:11-04:00
Circle Of Confusion : 0.030 mm
Field Of View : 65.5 deg
Focal Length : 28.0 mm (35 mm equivalent: 28.0 mm)
Hyperfocal Distance : 10.44 m
Light Value : 5.6
Lens ID : 28.0mm f/1.7