Uber Exif Photo
Make : LEICA CAMERA AG
Camera Model Name : LEICA Q3
Software : Adobe Lightroom 8.1 (Macintosh)
Modify Date : 2025:01:18 16:58:34
Exposure Time : 1/125
F Number : 9.0
Exposure Program : Shutter speed priority AE
ISO : 100
Sensitivity Type : Standard Output Sensitivity
Standard Output Sensitivity : 100
Date/Time Original : 2023:01:04 15:40:30
Create Date : 2023:01:04 15:40:30
Shutter Speed Value : 1/125
Aperture Value : 9.0
Exposure Compensation : -0.3
Max Aperture Value : 1.7
Metering Mode : Multi-segment
Light Source : Unknown
Flash : Off, Did not fire
Focal Length : 28.0 mm
Color Space : sRGB
Sensing Method : One-chip color area
Custom Rendered : Normal
White Balance : Auto
Digital Zoom Ratio : 1
Focal Length In 35mm Format : 28 mm
Scene Capture Type : Standard
Contrast : Normal
Saturation : Normal
Sharpness : Normal
Serial Number : 5732221
Lens Info : 28mm f/1.7
Lens Make : LEICA CAMERA AG
Lens Model : SUMMILUX 1:1.7/28 ASPH.
Lens Serial Number : N/A
Profile Description : sRGB IEC61966-2.1
Creator Tool : Adobe Lightroom 8.1 (Macintosh)
Correction Already Applied : False
Pitch Angle : 0.6999999881
Roll Angle : -0.3000000119
Focal Length 35mm : 29.0000000000
Target Aspect Ratio : 1.5025252104
Scaling Factor Height : 0.9915990233
Valid Crop Corners : True
Apply Automatically : False
Lens : SUMMILUX 1:1.7/28 ASPH.
Distortion Correction Already Applied : True
Lateral Chromatic Aberration Correction Already Applied:
True
Date Created : 2023:01:04 15:40:30.389-07:00
Format : image/jpeg
Raw File Name : L1001436.DNG
Version : 17.1
Process Version : 15.4
Color Temperature : 6100
Tint : +25
Exposure 2012 : +0.24
Contrast 2012 : +7
Highlights 2012 : -58
Shadows 2012 : +28
Whites 2012 : +50
Blacks 2012 : -45
Texture : 0
Clarity 2012 : 0
Dehaze : 0
Vibrance : +15
Parametric Shadows : 0
Parametric Darks : 0
Parametric Lights : 0
Parametric Highlights : 0
Parametric Shadow Split : 25
Parametric Midtone Split : 50
Parametric Highlight Split : 75
Sharpen Radius : +1.0
Sharpen Detail : 25
Sharpen Edge Masking : 0
Luminance Smoothing : 0
Color Noise Reduction : 25
Color Noise Reduction Detail : 50
Color Noise Reduction Smoothness : 50
Hue Adjustment Red : 0
Hue Adjustment Orange : 0
Hue Adjustment Yellow : 0
Hue Adjustment Green : 0
Hue Adjustment Aqua : 0
Hue Adjustment Blue : 0
Hue Adjustment Purple : 0
Hue Adjustment Magenta : 0
Saturation Adjustment Red : 0
Saturation Adjustment Orange : 0
Saturation Adjustment Yellow : 0
Saturation Adjustment Green : 0
Saturation Adjustment Aqua : 0
Saturation Adjustment Blue : 0
Saturation Adjustment Purple : 0
Saturation Adjustment Magenta : 0
Luminance Adjustment Red : 0
Luminance Adjustment Orange : 0
Luminance Adjustment Yellow : 0
Luminance Adjustment Green : 0
Luminance Adjustment Aqua : 0
Luminance Adjustment Blue : 0
Luminance Adjustment Purple : 0
Luminance Adjustment Magenta : 0
Split Toning Shadow Hue : 0
Split Toning Shadow Saturation : 0
Split Toning Highlight Hue : 0
Split Toning Highlight Saturation : 0
Split Toning Balance : 0
Color Grade Midtone Hue : 0
Color Grade Midtone Sat : 0
Color Grade Shadow Lum : 0
Color Grade Midtone Lum : 0
Color Grade Highlight Lum : 0
Color Grade Blending : 50
Color Grade Global Hue : 0
Color Grade Global Sat : 0
Color Grade Global Lum : 0
Auto Lateral CA : 0
Lens Profile Enable : 0
Lens Manual Distortion Amount : 0
Vignette Amount : 0
Defringe Purple Amount : 0
Defringe Purple Hue Lo : 30
Defringe Purple Hue Hi : 70
Defringe Green Amount : 0
Defringe Green Hue Lo : 40
Defringe Green Hue Hi : 60
Perspective Upright : Off
Perspective Vertical : 0
Perspective Horizontal : 0
Perspective Rotate : 0.0
Perspective Aspect : 0
Perspective Scale : 100
Perspective X : 0.00
Perspective Y : 0.00
Grain Amount : 0
Post Crop Vignette Amount : 0
Shadow Tint : 0
Red Hue : 0
Red Saturation : 0
Green Hue : 0
Green Saturation : 0
Blue Hue : 0
Blue Saturation : 0
HDR Edit Mode : 0
Override Look Vignette : False
Tone Curve Name 2012 : Linear
Camera Profile : Adobe Standard v2
Has Settings : True
Crop Top : 0
Crop Left : 0
Crop Bottom : 1
Crop Right : 1
Crop Angle : 0
Crop Constrain To Warp : 0
Has Crop : False
Already Applied : True
Normalized Crop Corners : 0.0084198508, 0.0000662413, 0.9950374365, 0.0078282347, 0.9965470433, 0.9993476272, 0.0000000000, 0.9915075302
Tone Curve PV2012 : 0, 0, 255, 255
Tone Curve PV2012 Red : 0, 0, 255, 255
Tone Curve PV2012 Green : 0, 0, 255, 255
Tone Curve PV2012 Blue : 0, 0, 255, 255
Point Colors : -1.000000, -1.000000, -1.000000, -1.000000, -1.000000, -1.000000, -1.000000, -1.000000, -1.000000, -1.000000, -1.000000, -1.000000, -1.000000, -1.000000, -1.000000, -1.000000, -1.000000, -1.000000, -1.000000
Look Name : Adobe Color
Look Amount : 1
Look Supports Amount : false
Look Supports Monochrome : false
Look Supports Output Referred : false
Look Group : Profiles
Look Parameters Version : 17.1
Look Parameters Process Version : 15.4
Look Parameters Convert To Grayscale : False
Look Parameters Camera Profile : Adobe Standard
Look Parameters Look Table : E1095149FDB39D7A057BAB208837E2E1
Look Parameters Tone Curve PV2012 : 0, 0, 22, 16, 40, 35, 127, 127, 224, 230, 240, 246, 255, 255
Look Parameters Tone Curve PV2012 Red : 0, 0, 255, 255
Look Parameters Tone Curve PV2012 Green : 0, 0, 255, 255
Look Parameters Tone Curve PV2012 Blue : 0, 0, 255, 255
Image Width : 400
Image Height : 266
Bits Per Sample : 8
Color Components : 3
Aperture : 9.0
Image Size : 400x266
Megapixels : 0.106
Scale Factor To 35 mm Equivalent : 1.0
Shutter Speed : 1/125
Create Date : 2023:01:04 15:40:30-07:00
Date/Time Original : 2023:01:04 15:40:30.389-07:00
Modify Date : 2025:01:18 16:58:34-08:00
Circle Of Confusion : 0.030 mm
Field Of View : 65.5 deg
Focal Length : 28.0 mm (35 mm equivalent: 28.0 mm)
Hyperfocal Distance : 2.90 m
Light Value : 13.3
Display settings: ORIGINAL format thumbnails | High quality JPEG thumbnails
Use Display settings menu option from the top menu to change