Uber Exif Photo
Make : LEICA CAMERA AG
Camera Model Name : LEICA Q3 43
Orientation : Horizontal (normal)
Software : Adobe Photoshop 26.2 (Macintosh)
Modify Date : 2025:02:03 02:40:59
Exposure Time : 1/1000
F Number : 4.0
Exposure Program : Aperture-priority AE
ISO : 100
Sensitivity Type : Standard Output Sensitivity
Standard Output Sensitivity : 100
Date/Time Original : 2025:01:24 10:51:47
Create Date : 2025:01:24 10:51:47
Shutter Speed Value : 1/1000
Aperture Value : 4.0
Exposure Compensation : -1.6
Max Aperture Value : 2.0
Metering Mode : Multi-segment
Light Source : Unknown
Flash : Off, Did not fire
Focal Length : 43.0 mm
Color Space : sRGB
Exif Image Width : 4000
Exif Image Height : 1667
Sensing Method : One-chip color area
Custom Rendered : Normal
White Balance : Auto
Digital Zoom Ratio : 1
Focal Length In 35mm Format : 43 mm
Scene Capture Type : Standard
Contrast : Normal
Saturation : Normal
Sharpness : Normal
Serial Number : 5973406
Lens Info : 43mm f/2
Lens Make : LEICA CAMERA AG
Lens Model : APO-SUMMICRON 1:2/43 ASPH.
Lens Serial Number : N/A
Rating : 2
Creator Tool : 3.0.0
Correction Already Applied : False
Pitch Angle : 0.3000000119
Roll Angle : 4.5999999046
Focal Length 35mm : 45.0000000000
Target Aspect Ratio : 1.5025252104
Scaling Factor Height : 0.8939260840
Valid Crop Corners : True
Apply Automatically : False
Lens : APO-SUMMICRON 1:2/43 ASPH.
Distortion Correction Already Applied : True
Lateral Chromatic Aberration Correction Already Applied:
True
Date Created : 2025:01:24 10:51:47.895+09:00
Color Mode : RGB
ICC Profile Name : sRGB IEC61966-2.1
Format : image/jpeg
Version : 17.1
Compatible Version : 251854848
Process Version : 15.4
Color Temperature : 5100
Tint : +18
Exposure 2012 : +1.40
Contrast 2012 : -50
Highlights 2012 : -20
Shadows 2012 : +30
Whites 2012 : -5
Blacks 2012 : +3
Texture : 0
Clarity 2012 : 0
Dehaze : 0
Vibrance : 0
Parametric Shadows : 0
Parametric Darks : 0
Parametric Lights : 0
Parametric Highlights : 0
Parametric Shadow Split : 25
Parametric Midtone Split : 50
Parametric Highlight Split : 75
Sharpen Radius : +1.0
Sharpen Detail : 25
Sharpen Edge Masking : 0
Luminance Smoothing : 0
Color Noise Reduction : 25
Color Noise Reduction Detail : 50
Color Noise Reduction Smoothness : 50
Hue Adjustment Red : 0
Hue Adjustment Orange : +29
Hue Adjustment Yellow : +24
Hue Adjustment Green : +35
Hue Adjustment Aqua : -26
Hue Adjustment Blue : +5
Hue Adjustment Purple : +11
Hue Adjustment Magenta : -9
Saturation Adjustment Red : -3
Saturation Adjustment Orange : -9
Saturation Adjustment Yellow : -3
Saturation Adjustment Green : +25
Saturation Adjustment Aqua : -6
Saturation Adjustment Blue : +10
Saturation Adjustment Purple : -22
Saturation Adjustment Magenta : -9
Luminance Adjustment Red : 0
Luminance Adjustment Orange : -10
Luminance Adjustment Yellow : +10
Luminance Adjustment Green : -5
Luminance Adjustment Aqua : -8
Luminance Adjustment Blue : -5
Luminance Adjustment Purple : +10
Luminance Adjustment Magenta : 0
Split Toning Shadow Hue : 0
Split Toning Shadow Saturation : 0
Split Toning Highlight Hue : 0
Split Toning Highlight Saturation : 0
Split Toning Balance : 0
Color Grade Midtone Hue : 0
Color Grade Midtone Sat : 0
Color Grade Shadow Lum : 0
Color Grade Midtone Lum : 0
Color Grade Highlight Lum : 0
Color Grade Blending : 50
Color Grade Global Hue : 0
Color Grade Global Sat : 0
Color Grade Global Lum : 0
Auto Lateral CA : 1
Lens Profile Enable : 0
Lens Manual Distortion Amount : 0
Vignette Amount : 0
Defringe Purple Amount : 0
Defringe Purple Hue Lo : 30
Defringe Purple Hue Hi : 70
Defringe Green Amount : 0
Defringe Green Hue Lo : 40
Defringe Green Hue Hi : 60
Perspective Upright : Auto
Perspective Vertical : 0
Perspective Horizontal : 0
Perspective Rotate : 0.0
Perspective Aspect : 0
Perspective Scale : 100
Perspective X : 0.00
Perspective Y : 0.00
Grain Amount : 0
Post Crop Vignette Amount : 0
Shadow Tint : 0
Red Hue : 0
Red Saturation : 0
Green Hue : 0
Green Saturation : 0
Blue Hue : 0
Blue Saturation : 0
HDR Edit Mode : 0
Override Look Vignette : False
Tone Curve Name 2012 : Linear
Camera Profile : Adobe Standard
Has Settings : True
Has Crop : False
Already Applied : True
Normalized Crop Corners : 0.0312043279, 0.1088299230, 0.9211414456, 0.0012451449, 0.9699660540, 0.8921466470, 0.0778071582, 1.0000000000
Tone Curve PV2012 : 0, 0, 255, 255
Tone Curve PV2012 Red : 0, 0, 255, 255
Tone Curve PV2012 Green : 0, 0, 255, 255
Tone Curve PV2012 Blue : 0, 0, 255, 255
Point Colors : -1.000000, -1.000000, -1.000000, -1.000000, -1.000000, -1.000000, -1.000000, -1.000000, -1.000000, -1.000000, -1.000000, -1.000000, -1.000000, -1.000000, -1.000000, -1.000000, -1.000000, -1.000000, -1.000000
100
2
Look Name : Adobe Color
Look Amount : 1
Look Supports Amount : false
Look Supports Monochrome : false
Look Supports Output Referred : false
Look Copyright : © 2018 Adobe Systems, Inc.
Look Group : Profiles
Look Parameters Version : 17.1
Look Parameters Process Version : 15.4
Look Parameters Convert To Grayscale : False
Look Parameters Camera Profile : Adobe Standard
Look Parameters Look Table : E1095149FDB39D7A057BAB208837E2E1
Look Parameters Tone Curve PV2012 : 0, 0, 22, 16, 40, 35, 127, 127, 224, 230, 240, 246, 255, 255
Look Parameters Tone Curve PV2012 Red : 0, 0, 255, 255
Look Parameters Tone Curve PV2012 Green : 0, 0, 255, 255
Look Parameters Tone Curve PV2012 Blue : 0, 0, 255, 255
Profile Description : sRGB IEC61966-2.1
Image Width : 400
Image Height : 167
Bits Per Sample : 8
Color Components : 3
Aperture : 4.0
Image Size : 400x167
Megapixels : 0.067
Scale Factor To 35 mm Equivalent : 1.0
Shutter Speed : 1/1000
Create Date : 2025:01:24 10:51:47+09:00
Date/Time Original : 2025:01:24 10:51:47.895+09:00
Modify Date : 2025:02:03 02:40:59+09:00
Circle Of Confusion : 0.030 mm
Field Of View : 45.4 deg
Focal Length : 43.0 mm (35 mm equivalent: 43.0 mm)
Hyperfocal Distance : 15.38 m
Light Value : 14.0