Uber Exif Photo
Make : LEICA CAMERA AG
Camera Model Name : LEICA Q3 43
Software : Adobe Photoshop Lightroom Classic 14.0.1 (Macintosh)
Modify Date : 2024:11:01 17:03:05
Artist : Thorsten Overgaard
Copyright : © 2024 Thorsten Overgaard
Exposure Time : 1/320
F Number : 2.0
Exposure Program : Aperture-priority AE
ISO : 100
Sensitivity Type : Standard Output Sensitivity
Standard Output Sensitivity : 100
Date/Time Original : 2024:09:14 02:25:42
Create Date : 2024:09:14 02:25:42
Shutter Speed Value : 1/320
Aperture Value : 2.0
Exposure Compensation : 0
Max Aperture Value : 2.0
Metering Mode : Multi-segment
Light Source : Daylight
Flash : Off, Did not fire
Focal Length : 43.0 mm
Color Space : sRGB
Sensing Method : One-chip color area
Custom Rendered : Normal
White Balance : Manual
Digital Zoom Ratio : 1
Focal Length In 35mm Format : 43 mm
Scene Capture Type : Standard
Contrast : Normal
Saturation : Normal
Sharpness : Normal
Serial Number : 5978773
Lens Info : 43mm f/2-2.08203125
Lens Make : LEICA CAMERA AG
Lens Model : APO-SUMMICRON 1:2/43 ASPH.
Lens Serial Number : N/A
Keywords : 2024, Kahnovich, New York, September, United States
By-line : Thorsten Overgaard
Copyright Notice : © 2024 Thorsten Overgaard
Copyright Flag : True
URL : https://www.overgaard.dk
Profile Description : sRGB IEC61966-2.1
Creator Tool : Adobe Photoshop Lightroom Classic 14.0.1 (Macintosh)
Rating : 3
Correction Already Applied : False
Pitch Angle : -0.3000000119
Roll Angle : -0.5000000000
Focal Length 35mm : 45.0000000000
Target Aspect Ratio : 1.5025252104
Scaling Factor Height : 0.9869794250
Valid Crop Corners : True
Apply Automatically : False
Lens : APO-SUMMICRON 1:2/43 ASPH.
Distortion Correction Already Applied : True
Lateral Chromatic Aberration Correction Already Applied:
True
Date Created : 2024:09:14 02:25:42.644-04:00
Preserved File Name : Q1000690.DNG
Format : image/jpeg
Web Statement : https://www.overgaard.dk
Marked : True
Pick : 0
Raw File Name : Q1000690.DNG
Version : 17.0
Process Version : 5.7
Color Temperature : 7500
Tint : +10
Exposure : +0.70
Highlight Recovery : 22
Fill Light : 29
Shadows : 12
Brightness : +50
Clarity : 0
Exposure 2012 : +1.05
Contrast 2012 : +17
Shadows 2012 : +39
Blacks 2012 : -22
Vibrance : 0
Parametric Shadows : 0
Parametric Darks : 0
Parametric Lights : 0
Parametric Highlights : 0
Parametric Shadow Split : 25
Parametric Midtone Split : 50
Parametric Highlight Split : 75
Sharpen Radius : +1.0
Sharpen Detail : 25
Sharpen Edge Masking : 0
Luminance Smoothing : 0
Color Noise Reduction : 25
Color Noise Reduction Detail : 50
Color Noise Reduction Smoothness : 50
Hue Adjustment Red : 0
Hue Adjustment Orange : 0
Hue Adjustment Yellow : 0
Hue Adjustment Green : 0
Hue Adjustment Aqua : 0
Hue Adjustment Blue : 0
Hue Adjustment Purple : 0
Hue Adjustment Magenta : 0
Saturation Adjustment Red : 0
Saturation Adjustment Orange : 0
Saturation Adjustment Yellow : 0
Saturation Adjustment Green : 0
Saturation Adjustment Aqua : 0
Saturation Adjustment Blue : 0
Saturation Adjustment Purple : 0
Saturation Adjustment Magenta : 0
Luminance Adjustment Red : 0
Luminance Adjustment Orange : 0
Luminance Adjustment Yellow : 0
Luminance Adjustment Green : 0
Luminance Adjustment Aqua : 0
Luminance Adjustment Blue : 0
Luminance Adjustment Purple : 0
Luminance Adjustment Magenta : 0
Split Toning Shadow Hue : 0
Split Toning Shadow Saturation : 0
Split Toning Highlight Hue : 0
Split Toning Highlight Saturation : 0
Split Toning Balance : 0
Color Grade Blending : 100
Auto Lateral CA : 0
Lens Profile Enable : 0
Lens Manual Distortion Amount : 0
Vignette Amount : 0
Defringe Purple Amount : 0
Defringe Purple Hue Lo : 30
Defringe Purple Hue Hi : 70
Defringe Green Amount : 0
Defringe Green Hue Lo : 40
Defringe Green Hue Hi : 60
Perspective Upright : Off
Perspective Vertical : 0
Perspective Horizontal : 0
Perspective Rotate : 0.0
Perspective Aspect : 0
Perspective Scale : 100
Perspective X : 0.00
Perspective Y : 0.00
Grain Amount : 0
Post Crop Vignette Amount : 0
Shadow Tint : 0
Red Hue : 0
Red Saturation : 0
Green Hue : 0
Green Saturation : 0
Blue Hue : 0
Blue Saturation : 0
Convert To Grayscale : False
Override Look Vignette : False
Tone Curve Name : Medium Contrast
Camera Profile : Adobe Standard
Has Settings : True
Crop Top : 0.049635
Crop Left : 0
Crop Bottom : 0.980531
Crop Right : 0.944566
Crop Angle : 0
Crop Constrain To Warp : 0
Has Crop : True
Already Applied : True
Normalized Crop Corners : 0.0087161707, 0.0000000000, 0.9970166683, 0.0129589317, 0.9899259806, 0.9998679161, 0.0043424638, 0.9869446158
Creator : Thorsten Overgaard
Rights : © 2024 Thorsten Overgaard
Subject : 2024, Kahnovich, New York, September, United States
Weighted Flat Subject : 2024, Kahnovich, New York, September, United States
Tone Curve : 0, 0, 32, 22, 64, 56, 128, 128, 192, 196, 255, 255
Tone Curve Red : 0, 0, 255, 255
Tone Curve Green : 0, 0, 255, 255
Tone Curve Blue : 0, 0, 255, 255
Point Colors : -1.000000, -1.000000, -1.000000, -1.000000, -1.000000, -1.000000, -1.000000, -1.000000, -1.000000, -1.000000, -1.000000, -1.000000, -1.000000, -1.000000, -1.000000, -1.000000, -1.000000, -1.000000, -1.000000
Image Width : 400
Image Height : 262
Bits Per Sample : 8
Color Components : 3
Aperture : 2.0
Image Size : 400x262
Megapixels : 0.105
Scale Factor To 35 mm Equivalent : 1.0
Shutter Speed : 1/320
Create Date : 2024:09:14 02:25:42-04:00
Date/Time Original : 2024:09:14 02:25:42.644-04:00
Modify Date : 2024:11:01 17:03:05-04:00
Circle Of Confusion : 0.030 mm
Field Of View : 45.4 deg
Focal Length : 43.0 mm (35 mm equivalent: 43.0 mm)
Hyperfocal Distance : 30.77 m
Light Value : 10.3