Uber Exif Photo
Photometric Interpretation : RGB
Make : LEICA CAMERA AG
Camera Model Name : LEICA Q2 MONO
Orientation : Horizontal (normal)
Samples Per Pixel : 3
Planar Configuration : Chunky
Software : Adobe Photoshop 25.12 (Macintosh)
Modify Date : 2025:05:22 16:37:48
Exposure Time : 1/250
F Number : 8.0
Exposure Program : Manual
ISO : 800
Sensitivity Type : Standard Output Sensitivity
Standard Output Sensitivity : 800
Date/Time Original : 2025:05:21 08:59:49
Create Date : 2025:05:21 08:59:49
Shutter Speed Value : 1/250
Aperture Value : 8.0
Exposure Compensation : 0
Max Aperture Value : 1.7
Metering Mode : Other
Light Source : Unknown
Flash : Off, Did not fire
Focal Length : 28.0 mm
Color Space : Uncalibrated
Exif Image Width : 961
Exif Image Height : 1440
Custom Rendered : Normal
Digital Zoom Ratio : 1
Focal Length In 35mm Format : 28 mm
Scene Capture Type : Standard
Contrast : Normal
Sharpness : Normal
Serial Number : 5601159
Lens Info : 28mm f/1.53125-2.97265625
Lens Model : SUMMILUX 1:1.7/28 ASPH.
Lens Serial Number : N/A
Creator Tool : Adobe Photoshop Camera Raw 17.3.1 (Macintosh)
Lens : SUMMILUX 1:1.7/28 ASPH.
Distortion Correction Already Applied : True
Date Created : 2025:05:21 08:59:49-05:00
Color Mode : RGB
ICC Profile Name : Adobe RGB (1998)
Format : image/jpeg
Raw File Name : L1003241-2.DNG
Version : 17.3.1
Process Version : 15.4
Exposure 2012 : +1.51
Contrast 2012 : +59
Highlights 2012 : -54
Shadows 2012 : +100
Whites 2012 : -83
Blacks 2012 : -36
Texture : 0
Clarity 2012 : +51
Dehaze : 0
Parametric Shadows : 0
Parametric Darks : 0
Parametric Lights : 0
Parametric Highlights : 0
Parametric Shadow Split : 25
Parametric Midtone Split : 50
Parametric Highlight Split : 75
Sharpen Radius : +1.0
Sharpen Detail : 25
Sharpen Edge Masking : 0
Luminance Smoothing : 0
Split Toning Shadow Hue : 0
Split Toning Shadow Saturation : 0
Split Toning Highlight Hue : 0
Split Toning Highlight Saturation : 0
Split Toning Balance : 0
Color Grade Midtone Hue : 0
Color Grade Midtone Sat : 0
Color Grade Shadow Lum : 0
Color Grade Midtone Lum : 0
Color Grade Highlight Lum : 0
Color Grade Blending : 50
Color Grade Global Hue : 0
Color Grade Global Sat : 0
Color Grade Global Lum : 0
Lens Profile Enable : 0
Lens Manual Distortion Amount : 0
Vignette Amount : 0
Perspective Upright : Off
Perspective Vertical : 0
Perspective Horizontal : 0
Perspective Rotate : 0.0
Perspective Aspect : 0
Perspective Scale : 100
Perspective X : 0.00
Perspective Y : 0.00
Grain Amount : 0
Post Crop Vignette Amount : 0
HDR Edit Mode : 0
Override Look Vignette : False
Tone Curve Name 2012 : Linear
Has Settings : True
Crop Top : 0
Crop Left : 0
Crop Bottom : 1
Crop Right : 1
Crop Angle : 0
Crop Constrain To Warp : 0
Has Crop : False
Already Applied : True
Tone Curve PV2012 : 0, 0, 255, 255
Tone Curve PV2012 Red : 0, 0, 255, 255
Tone Curve PV2012 Green : 0, 0, 255, 255
Tone Curve PV2012 Blue : 0, 0, 255, 255
Point Colors : -1.000000, -1.000000, -1.000000, -1.000000, -1.000000, -1.000000, -1.000000, -1.000000, -1.000000, -1.000000, -1.000000, -1.000000, -1.000000, -1.000000, -1.000000, -1.000000, -1.000000, -1.000000, -1.000000
Profile Description : Adobe RGB (1998)
Image Width : 267
Image Height : 400
Bits Per Sample : 8
Color Components : 3
Aperture : 8.0
Image Size : 267x400
Megapixels : 0.107
Scale Factor To 35 mm Equivalent : 1.0
Shutter Speed : 1/250
Create Date : 2025:05:21 08:59:49-05:00
Date/Time Original : 2025:05:21 08:59:49-05:00
Modify Date : 2025:05:22 16:37:48-04:00
Circle Of Confusion : 0.030 mm
Field Of View : 65.5 deg
Focal Length : 28.0 mm (35 mm equivalent: 28.0 mm)
Hyperfocal Distance : 3.26 m
Light Value : 11.0