Uber Exif Photo
Photometric Interpretation : RGB
Make : LEICA CAMERA AG
Camera Model Name : LEICA Q3
Orientation : Horizontal (normal)
Samples Per Pixel : 3
Software : Adobe Photoshop 27.2 (Macintosh)
Modify Date : 2026:01:05 10:38:56
Exposure Time : 1/160
F Number : 4.0
Exposure Program : Program AE
ISO : 100
Sensitivity Type : Standard Output Sensitivity
Standard Output Sensitivity : 100
Date/Time Original : 2025:11:05 06:27:40
Create Date : 2025:11:05 06:27:40
Shutter Speed Value : 1/160
Aperture Value : 4.0
Exposure Compensation : 0
Max Aperture Value : 1.7
Metering Mode : Multi-segment
Light Source : Unknown
Flash : Off, Did not fire
Focal Length : 28.0 mm
Color Space : Uncalibrated
Exif Image Width : 7500
Exif Image Height : 4692
Sensing Method : One-chip color area
Custom Rendered : Normal
White Balance : Auto
Digital Zoom Ratio : 1
Focal Length In 35mm Format : 28 mm
Scene Capture Type : Standard
Contrast : Normal
Saturation : Normal
Sharpness : Normal
Serial Number : 5970201
Lens Info : 28mm f/1.7
Lens Make : LEICA CAMERA AG
Lens Model : SUMMILUX 1:1.7/28 ASPH.
Lens Serial Number : N/A
Distortion Correction Already Applied : True
Lateral Chromatic Aberration Correction Already Applied:
True
Lens : SUMMILUX 1:1.7/28 ASPH.
Format : image/jpeg
Date Created : 2025:11:05 06:27:40.711-04:00
Color Mode : RGB
ICC Profile Name : Display P3
Black Clip : 0.000000
Blend With EV : 0.0
Blending Opacity : 0.0
Brightness : -6.0
Brightness Individual Colors : 0.0,0.0,0.0,0.0,0.0,0.0,0.0,0.0
Detail Contrast : 10.0
Highlights Smoothing : 39.0
Is Pano 360 : No
Method : Details Enhancer
Microsmoothing : 2.0
Saturation Highlights : 0.0
Saturation Individual Colors : 0.0,0.0,0.0,0.0,0.0,0.0,0.0,0.0
Saturation Shadows : 0.0
Shadows Clipping : 0.0
Shadows Smoothing : 0.0
Smoothing : Medium
Smoothing Mode : Light
Strength : 10.0
Temperature Individual Colors : 0.0,0.0,0.0,0.0,0.0,0.0,0.0,0.0
Tone Compression : 10.0
White Clip : 0.595150
Creator Tool : 3.1.1
Rating : 0
Auto Lateral CA : 0
Blacks 2012 : 0
Blue Hue : 0
Blue Saturation : 0
Camera Profile : Adobe Standard v2
Clarity 2012 : +18
Color Noise Reduction : 25
Color Noise Reduction Detail : 50
Color Noise Reduction Smoothness : 50
Contrast 2012 : +27
Defringe Green Amount : 0
Defringe Green Hue Hi : 60
Defringe Green Hue Lo : 40
Defringe Purple Amount : 0
Defringe Purple Hue Hi : 70
Defringe Purple Hue Lo : 30
Dehaze : +21
Exposure 2012 : +0.05
Grain Amount : 0
Green Hue : 0
Green Saturation : 0
Has Crop : False
Has Settings : True
Highlights 2012 : -75
Hue Adjustment Aqua : 0
Hue Adjustment Blue : 0
Hue Adjustment Green : 0
Hue Adjustment Magenta : 0
Hue Adjustment Orange : 0
Hue Adjustment Purple : 0
Hue Adjustment Red : 0
Hue Adjustment Yellow : 0
Lens Manual Distortion Amount : 0
Lens Profile Enable : 0
Luminance Adjustment Aqua : 0
Luminance Adjustment Blue : 0
Luminance Adjustment Green : 0
Luminance Adjustment Magenta : 0
Luminance Adjustment Orange : 0
Luminance Adjustment Purple : 0
Luminance Adjustment Red : 0
Luminance Adjustment Yellow : 0
Luminance Smoothing : 0
Parametric Darks : 0
Parametric Highlight Split : 75
Parametric Highlights : 0
Parametric Lights : 0
Parametric Midtone Split : 50
Parametric Shadow Split : 25
Parametric Shadows : 0
Perspective Aspect : 0
Perspective Horizontal : 0
Perspective Rotate : 0.0
Perspective Scale : 100
Perspective Upright : Off
Perspective Vertical : 0
Perspective X : 0.00
Perspective Y : 0.00
Post Crop Vignette Amount : 0
Process Version : 15.4
Red Hue : 0
Red Saturation : 0
Saturation Adjustment Aqua : 0
Saturation Adjustment Blue : 0
Saturation Adjustment Green : 0
Saturation Adjustment Magenta : 0
Saturation Adjustment Orange : 0
Saturation Adjustment Purple : 0
Saturation Adjustment Red : 0
Saturation Adjustment Yellow : 0
Shadow Tint : 0
Shadows 2012 : +24
Sharpen Detail : 25
Sharpen Edge Masking : 0
Sharpen Radius : +1.0
Split Toning Balance : 0
Split Toning Highlight Hue : 0
Split Toning Highlight Saturation : 0
Split Toning Shadow Hue : 0
Split Toning Shadow Saturation : 0
Color Temperature : 5150
Texture : +18
Tint : +30
Tone Curve Name 2012 : Linear
Version : 18.0
Vibrance : +18
Vignette Amount : 0
Whites 2012 : 0
Already Applied : True
Tone Curve PV2012 : 0, 0, 255, 255
Tone Curve PV2012 Blue : 0, 0, 255, 255
Tone Curve PV2012 Green : 0, 0, 255, 255
Tone Curve PV2012 Red : 0, 0, 255, 255
Profile Description : Display P3
Image Width : 400
Image Height : 250
Bits Per Sample : 8
Color Components : 3
Aperture : 4.0
Image Size : 400x250
Megapixels : 0.100
Scale Factor To 35 mm Equivalent : 1.0
Shutter Speed : 1/160
Create Date : 2025:11:05 06:27:40-04:00
Date/Time Original : 2025:11:05 06:27:40.711-04:00
Modify Date : 2026:01:05 10:38:56-04:00
Circle Of Confusion : 0.030 mm
Field Of View : 65.5 deg
Focal Length : 28.0 mm (35 mm equivalent: 28.0 mm)
Hyperfocal Distance : 6.52 m
Light Value : 11.3