Uber Exif Photo
Make : LEICA CAMERA AG
Camera Model Name : LEICA Q (Typ 116)
Software : Adobe Photoshop Lightroom 6.14 (Macintosh)
Modify Date : 2020:08:23 19:05:29
Exposure Time : 1/500
F Number : 2.0
Exposure Program : Manual
ISO : 100
Sensitivity Type : Standard Output Sensitivity
Date/Time Original : 2020:08:23 15:55:15
Create Date : 2020:08:23 15:55:15
Shutter Speed Value : 1/500
Aperture Value : 2.0
Exposure Compensation : -0.3
Max Aperture Value : 1.7
Metering Mode : Center-weighted average
Light Source : Daylight
Flash : Off, Did not fire
Focal Length : 28.0 mm
Color Space : sRGB
Sensing Method : One-chip color area
Custom Rendered : Normal
White Balance : Manual
Digital Zoom Ratio : 1.25
Focal Length In 35mm Format : 35 mm
Scene Capture Type : Standard
Contrast : Normal
Saturation : Normal
Sharpness : Normal
Serial Number : 5155819
Lens Info : 28mm f/1.53125
Lens Make : LEICA CAMERA AG
Lens Model : 28.0 mm f/1.7
Lens Serial Number : N/A
Profile Description : sRGB IEC61966-2.1
Creator Tool : Adobe Photoshop Lightroom 6.14 (Macintosh)
Lens : 28.0 mm f/1.7
Distortion Correction Already Applied : True
Lateral Chromatic Aberration Correction Already Applied:
True
Date Created : 2020:08:23 15:55:15
Format : image/jpeg
Version : 10.1
Process Version : 6.7
Auto White Version : 134348800
Color Temperature : 4600
Tint : +2
Luminance Smoothing : 0
Color Noise Reduction : 25
Vignette Amount : 0
Shadow Tint : 0
Red Hue : 0
Red Saturation : 0
Green Hue : 0
Green Saturation : 0
Blue Hue : 0
Blue Saturation : 0
Vibrance : +25
Hue Adjustment Red : 0
Hue Adjustment Orange : 0
Hue Adjustment Yellow : 0
Hue Adjustment Green : 0
Hue Adjustment Aqua : 0
Hue Adjustment Blue : 0
Hue Adjustment Purple : 0
Hue Adjustment Magenta : 0
Saturation Adjustment Red : 0
Saturation Adjustment Orange : 0
Saturation Adjustment Yellow : 0
Saturation Adjustment Green : 0
Saturation Adjustment Aqua : 0
Saturation Adjustment Blue : 0
Saturation Adjustment Purple : 0
Saturation Adjustment Magenta : 0
Luminance Adjustment Red : 0
Luminance Adjustment Orange : 0
Luminance Adjustment Yellow : 0
Luminance Adjustment Green : 0
Luminance Adjustment Aqua : 0
Luminance Adjustment Blue : 0
Luminance Adjustment Purple : 0
Luminance Adjustment Magenta : 0
Split Toning Shadow Hue : 0
Split Toning Shadow Saturation : 0
Split Toning Highlight Hue : 0
Split Toning Highlight Saturation : 0
Split Toning Balance : 0
Parametric Shadows : 0
Parametric Darks : 0
Parametric Lights : 0
Parametric Highlights : 0
Parametric Shadow Split : 25
Parametric Midtone Split : 50
Parametric Highlight Split : 75
Sharpen Radius : +1.0
Sharpen Detail : 25
Sharpen Edge Masking : 40
Post Crop Vignette Amount : 0
Grain Amount : 0
Color Noise Reduction Detail : 50
Color Noise Reduction Smoothness : 50
Lens Profile Enable : 0
Lens Manual Distortion Amount : 0
Perspective Vertical : 0
Perspective Horizontal : 0
Perspective Rotate : 0.0
Perspective Scale : 100
Perspective Aspect : 0
Perspective Upright : Off
Perspective X : 0.00
Perspective Y : 0.00
Auto Lateral CA : 0
Exposure 2012 : +1.57
Contrast 2012 : 0
Highlights 2012 : -63
Shadows 2012 : +58
Whites 2012 : 0
Blacks 2012 : 0
Clarity 2012 : +30
Defringe Purple Amount : 0
Defringe Purple Hue Lo : 30
Defringe Purple Hue Hi : 70
Defringe Green Amount : 0
Defringe Green Hue Lo : 40
Defringe Green Hue Hi : 60
Dehaze : 0
Tone Map Strength : 0
Convert To Grayscale : False
Tone Curve Name : Linear
Tone Curve Name 2012 : Custom
Camera Profile : Adobe Standard
Lens Profile Setup : LensDefaults
Has Settings : True
Crop Top : 0.002514
Crop Left : 0.148241
Crop Bottom : 0.854274
Crop Right : 1
Crop Angle : 0
Crop Constrain To Warp : 0
Has Crop : True
Already Applied : True
Tone Curve : 0, 0, 255, 255
Tone Curve Red : 0, 0, 255, 255
Tone Curve Green : 0, 0, 255, 255
Tone Curve Blue : 0, 0, 255, 255
Tone Curve PV2012 : 0, 0, 71, 52, 130, 132, 187, 199, 255, 255
Tone Curve PV2012 Red : 0, 0, 255, 255
Tone Curve PV2012 Green : 0, 0, 255, 255
Tone Curve PV2012 Blue : 0, 0, 255, 255
Image Width : 400
Image Height : 267
Bits Per Sample : 8
Color Components : 3
Aperture : 2.0
Image Size : 400x267
Megapixels : 0.107
Scale Factor To 35 mm Equivalent : 1.2
Shutter Speed : 1/500
Circle Of Confusion : 0.024 mm
Field Of View : 54.4 deg
Focal Length : 28.0 mm (35 mm equivalent: 35.0 mm)
Hyperfocal Distance : 16.31 m
Light Value : 11.0
Lens ID : 28.0mm f/1.7
Display settings: ORIGINAL format thumbnails | Fast loading WEBP thumbnails
Use Display settings menu option from the top menu to change