Uber Exif Photo
Make : FUJIFILM
Camera Model Name : X100V
Software : Adobe Photoshop Lightroom Classic 15.0.1 (Macintosh)
Modify Date : 2025:12:13 21:04:42
Artist : Sandra I. Tweedt
Copyright : @2015 Sandra I. Tweedt
Exposure Time : 1/200
F Number : 5.6
Exposure Program : Aperture-priority AE
ISO : 800
Sensitivity Type : Standard Output Sensitivity
Date/Time Original : 2025:12:12 14:20:43
Create Date : 2025:12:12 14:20:43
Shutter Speed Value : 1/200
Aperture Value : 5.6
Brightness Value : 9.37
Exposure Compensation : +0.33
Max Aperture Value : 2.0
Metering Mode : Multi-segment
Light Source : Unknown
Flash : No Flash
Focal Length : 23.0 mm
Color Space : sRGB
Sensing Method : One-chip color area
Scene Type : Directly photographed
Custom Rendered : Normal
Exposure Mode : Auto
White Balance : Auto
Scene Capture Type : Standard
Sharpness : Normal
Subject Distance Range : Unknown
Serial Number : 23000260
By-line : Sandra I. Tweedt
Copyright Notice : @2015 Sandra I. Tweedt
Copyright Flag : True
URL : http://sandratweedt.com/usagerights
Profile Description : sRGB IEC61966-2.1
Creator Tool : Adobe Photoshop Lightroom Classic 15.0.1 (Macintosh)
Fuji Rating Already Applied : True
Date Created : 2025:12:12 14:20:43
Preserved File Name : DSCF3822.JPG
Format : image/jpeg
Marked : True
Web Statement : http://sandratweedt.com/usagerights
Pick : 0
Raw File Name : DSCF3822.JPG
Version : 18.0
Process Version : 15.4
Incremental Temperature : 0
Incremental Tint : 0
Exposure 2012 : +0.25
Contrast 2012 : 0
Highlights 2012 : -51
Shadows 2012 : 0
Whites 2012 : 0
Blacks 2012 : 0
Texture : 0
Clarity 2012 : 0
Dehaze : 0
Parametric Shadows : 0
Parametric Darks : 0
Parametric Lights : 0
Parametric Highlights : 0
Parametric Shadow Split : 25
Parametric Midtone Split : 50
Parametric Highlight Split : 75
Luminance Smoothing : 0
Color Noise Reduction : 0
Gray Mixer Red : 0
Gray Mixer Orange : 0
Gray Mixer Yellow : 0
Gray Mixer Green : 0
Gray Mixer Aqua : 0
Gray Mixer Blue : 0
Gray Mixer Purple : 0
Gray Mixer Magenta : 0
Split Toning Shadow Hue : 0
Split Toning Shadow Saturation : 0
Split Toning Highlight Hue : 0
Split Toning Highlight Saturation : 0
Split Toning Balance : 0
Color Grade Midtone Hue : 0
Color Grade Midtone Sat : 0
Color Grade Shadow Lum : 0
Color Grade Midtone Lum : 0
Color Grade Highlight Lum : 0
Color Grade Blending : 50
Color Grade Global Hue : 0
Color Grade Global Sat : 0
Color Grade Global Lum : 0
Auto Lateral CA : 0
Lens Profile Enable : 0
Lens Manual Distortion Amount : 0
Vignette Amount : 0
Perspective Upright : Off
Perspective Vertical : 0
Perspective Horizontal : 0
Perspective Rotate : 0.0
Perspective Aspect : 0
Perspective Scale : 100
Perspective X : 0.00
Perspective Y : 0.00
Grain Amount : 0
Post Crop Vignette Amount : 0
Shadow Tint : 0
Red Hue : 0
Red Saturation : 0
Green Hue : 0
Green Saturation : 0
Blue Hue : 0
Blue Saturation : 0
HDR Edit Mode : 0
Override Look Vignette : False
Tone Curve Name 2012 : Custom
Camera Profile : Embedded
Has Settings : True
Crop Top : 0
Crop Left : 0
Crop Bottom : 1
Crop Right : 0.981003
Crop Angle : 0
Crop Constrain To Warp : 0
Crop Constrain To Unit Square : 1
Has Crop : True
Already Applied : True
Creator : Sandra I. Tweedt
Rights : @2015 Sandra I. Tweedt
Usage Terms : All rights reserved. No reproduction of any kind
Creator Postal Code : 97229
Creator Work Telephone : 5035260217
Creator Region : Oregon
Creator Country : USA
Creator City : Portland
Creator Work Email : stweedty8388@gmail.com
Creator Address : 10582 NW La Cassel Crest Lane
Tone Curve PV2012 : 0, 0, 60, 48, 152, 147, 255, 255
Tone Curve PV2012 Red : 0, 0, 255, 255
Tone Curve PV2012 Green : 0, 0, 255, 255
Tone Curve PV2012 Blue : 0, 0, 255, 255
Point Colors : -1.000000, -1.000000, -1.000000, -1.000000, -1.000000, -1.000000, -1.000000, -1.000000, -1.000000, -1.000000, -1.000000, -1.000000, -1.000000, -1.000000, -1.000000, -1.000000, -1.000000, -1.000000, -1.000000
Color Variance : -50.000000
Look Name : B&W 09
Look Amount : 1
Look Cluster : Adobe
Look Supports Monochrome : false
Look Copyright : © 2018 Adobe Systems, Inc.
Look Sort Name : B&W 09
Look Group : B&W
Look Parameters Version : 18.0
Look Parameters Process Version : 15.4
Look Parameters Contrast 2012 : +55
Look Parameters Clarity 2012 : +8
Look Parameters Convert To Grayscale : True
Look Parameters Look Table : 117C9F46F99CE5FB0DAA115654DF89AB
Look Parameters Point Colors : -1.000000, -1.000000, -1.000000, -1.000000, -1.000000, -1.000000, -1.000000, -1.000000, -1.000000, -1.000000, -1.000000, -1.000000, -1.000000, -1.000000, -1.000000, -1.000000, -1.000000, -1.000000, -1.000000
Look Parameters Color Variance : -50.000000
Image Width : 400
Image Height : 272
Bits Per Sample : 8
Color Components : 3
Aperture : 5.6
Image Size : 400x272
Megapixels : 0.109
Scale Factor To 35 mm Equivalent : 23.8
Shutter Speed : 1/200
Modify Date : 2025:12:13 21:04:42-08:00
Circle Of Confusion : 0.001 mm
Field Of View : 3.8 deg
Focal Length : 23.0 mm (35 mm equivalent: 547.2 mm)
Hyperfocal Distance : 74.80 m
Light Value : 9.6
Display settings: ORIGINAL format thumbnails | High quality JPEG thumbnails
Use Display settings menu option from the top menu to change