Uber Exif Photo
Photometric Interpretation : RGB
Make : Panasonic
Camera Model Name : DMC-GX7
Orientation : Horizontal (normal)
Samples Per Pixel : 3
Software : Adobe Photoshop CC (Windows)
Modify Date : 2014:05:18 15:02:07
Exposure Time : 1/2000
F Number : 6.3
Exposure Program : Aperture-priority AE
ISO : 200
Date/Time Original : 2014:05:16 12:37:43
Create Date : 2014:05:16 12:37:43
Shutter Speed Value : 1/2000
Aperture Value : 6.3
Exposure Compensation : 0
Max Aperture Value : 1.4
Metering Mode : Multi-segment
Light Source : Unknown
Flash : Off, Did not fire
Focal Length : 25.0 mm
Color Space : sRGB
Exif Image Width : 1590
Exif Image Height : 1200
Sensing Method : One-chip color area
Scene Type : Directly photographed
Custom Rendered : Normal
Exposure Mode : Auto
White Balance : Auto
Digital Zoom Ratio : 0
Focal Length In 35mm Format : 50 mm
Scene Capture Type : Standard
Gain Control : Low gain up
Contrast : High
Saturation : High
Sharpness : Hard
Lens Model : LEICA DG SUMMILUX 25/F1.4
Lens Serial Number : 11101100058
Lens : LEICA DG SUMMILUX 25/F1.4
Creator Tool : Adobe Photoshop CC (Windows)
Date Created : 2014:05:16 12:37:43
Color Mode : RGB
ICC Profile Name : sRGB IEC61966-2.1
Format : image/jpeg
Version : 8.4
Process Version : 6.7
Auto White Version : 134348800
Color Temperature : 4700
Tint : +22
Luminance Smoothing : 0
Color Noise Reduction : 25
Vignette Amount : 0
Shadow Tint : 0
Red Hue : 0
Red Saturation : 0
Green Hue : 0
Green Saturation : 0
Blue Hue : 0
Blue Saturation : 0
Vibrance : 0
Hue Adjustment Red : 0
Hue Adjustment Orange : 0
Hue Adjustment Yellow : 0
Hue Adjustment Green : 0
Hue Adjustment Aqua : 0
Hue Adjustment Blue : 0
Hue Adjustment Purple : 0
Hue Adjustment Magenta : 0
Saturation Adjustment Red : 0
Saturation Adjustment Orange : 0
Saturation Adjustment Yellow : 0
Saturation Adjustment Green : 0
Saturation Adjustment Aqua : 0
Saturation Adjustment Blue : 0
Saturation Adjustment Purple : 0
Saturation Adjustment Magenta : 0
Luminance Adjustment Red : -38
Luminance Adjustment Orange : -58
Luminance Adjustment Yellow : 0
Luminance Adjustment Green : 0
Luminance Adjustment Aqua : 0
Luminance Adjustment Blue : -4
Luminance Adjustment Purple : 0
Luminance Adjustment Magenta : 0
Split Toning Shadow Hue : 0
Split Toning Shadow Saturation : 0
Split Toning Highlight Hue : 0
Split Toning Highlight Saturation : 0
Split Toning Balance : 0
Parametric Shadows : 0
Parametric Darks : 0
Parametric Lights : 0
Parametric Highlights : 0
Parametric Shadow Split : 25
Parametric Midtone Split : 50
Parametric Highlight Split : 75
Sharpen Radius : +1.0
Sharpen Detail : 25
Sharpen Edge Masking : 0
Post Crop Vignette Amount : 0
Grain Amount : 0
Color Noise Reduction Detail : 50
Color Noise Reduction Smoothness : 50
Lens Profile Enable : 0
Lens Manual Distortion Amount : 0
Perspective Vertical : 0
Perspective Horizontal : 0
Perspective Rotate : 0.0
Perspective Scale : 100
Perspective Aspect : 0
Perspective Upright : Off
Auto Lateral CA : 0
Exposure 2012 : +0.71
Contrast 2012 : -19
Highlights 2012 : 0
Shadows 2012 : 0
Whites 2012 : +49
Blacks 2012 : -24
Clarity 2012 : +38
Defringe Purple Amount : 0
Defringe Purple Hue Lo : 30
Defringe Purple Hue Hi : 70
Defringe Green Amount : 0
Defringe Green Hue Lo : 40
Defringe Green Hue Hi : 60
Convert To Grayscale : False
Tone Curve Name : Linear
Tone Curve Name 2012 : Linear
Camera Profile : Adobe Standard
Lens Profile Setup : LensDefaults
Has Settings : True
Crop Top : 0
Crop Left : 0.065876
Crop Bottom : 0.938464
Crop Right : 0.997553
Crop Angle : 0.199863
Crop Constrain To Warp : 0
Has Crop : True
Already Applied : True
Tone Curve : 0, 0, 255, 255
Tone Curve Red : 0, 0, 255, 255
Tone Curve Green : 0, 0, 255, 255
Tone Curve Blue : 0, 0, 255, 255
Tone Curve PV2012 : 0, 0, 255, 255
Tone Curve PV2012 Red : 0, 0, 255, 255
Tone Curve PV2012 Green : 0, 0, 255, 255
Tone Curve PV2012 Blue : 0, 0, 255, 255
Profile Description : sRGB IEC61966-2.1
Image Width : 400
Image Height : 302
Bits Per Sample : 8
Color Components : 3
Aperture : 6.3
Image Size : 400x302
Megapixels : 0.121
Scale Factor To 35 mm Equivalent : 2.0
Shutter Speed : 1/2000
Circle Of Confusion : 0.015 mm
Field Of View : 39.6 deg
Focal Length : 25.0 mm (35 mm equivalent: 50.0 mm)
Hyperfocal Distance : 6.60 m
Light Value : 15.3
Lens ID : LEICA DG SUMMILUX 25mm F1.4