Uber Exif Photo
Make : FUJIFILM
Camera Model Name : X-Pro1
Software : Adobe Photoshop Lightroom Classic 15.1.1 (Windows)
Modify Date : 2026:02:12 21:23:08
Copyright : Richard Berter
Exposure Time : 1/125
F Number : 2.8
Exposure Program : Shutter speed priority AE
ISO : 1600
Date/Time Original : 2019:01:03 17:35:26
Create Date : 2019:01:03 17:35:26
Shutter Speed Value : 1/125
Aperture Value : 2.8
Brightness Value : 1.2
Exposure Compensation : +0.33
Max Aperture Value : 2.8
Metering Mode : Average
Light Source : Unknown
Flash : Off, Did not fire
Focal Length : 27.0 mm
Color Space : sRGB
Sensing Method : One-chip color area
Scene Type : Directly photographed
Exposure Mode : Auto
White Balance : Auto
Focal Length In 35mm Format : 41 mm
Scene Capture Type : Standard
Sharpness : Normal
Subject Distance Range : Unknown
Lens Info : 27mm f/2.8
Lens Model : XF27mmF2.8
Lens Serial Number : 53A11918
Copyright Notice : Richard Berter
Copyright Flag : True
Profile Description : sRGB IEC61966-2.1
Distortion Correction Already Applied : True
Fuji Rating Already Applied : True
Lateral Chromatic Aberration Correction Already Applied:
True
Lens : XF27mmF2.8
Vignette Correction Already Applied : True
Format : image/jpeg
Creator Tool : Adobe Photoshop Lightroom Classic 15.1.1 (Windows)
Photographic Sensitivity : 1600
Date Created : 2019:01:03 17:35:26
Pick : 0
Preserved File Name : DSCF7788.RAF
Marked : True
Raw File Name : DSCF7788-Edit.tif
Version : 18.1
Process Version : 15.4
Incremental Temperature : 0
Incremental Tint : 0
Shadows : 5
Brightness : +50
Contrast : +25
Exposure 2012 : -0.35
Contrast 2012 : +6
Highlights 2012 : -2
Shadows 2012 : +16
Whites 2012 : -10
Blacks 2012 : 0
Texture : 0
Clarity 2012 : 0
Dehaze : 0
Vibrance : +20
Saturation : +3
Parametric Shadows : 0
Parametric Darks : 0
Parametric Lights : 0
Parametric Highlights : 0
Parametric Shadow Split : 25
Parametric Midtone Split : 50
Parametric Highlight Split : 75
Luminance Smoothing : 0
Color Noise Reduction : 0
Hue Adjustment Red : 0
Hue Adjustment Orange : 0
Hue Adjustment Yellow : 0
Hue Adjustment Green : 0
Hue Adjustment Aqua : 0
Hue Adjustment Blue : 0
Hue Adjustment Purple : 0
Hue Adjustment Magenta : 0
Saturation Adjustment Red : 0
Saturation Adjustment Orange : 0
Saturation Adjustment Yellow : 0
Saturation Adjustment Green : 0
Saturation Adjustment Aqua : 0
Saturation Adjustment Blue : 0
Saturation Adjustment Purple : 0
Saturation Adjustment Magenta : 0
Luminance Adjustment Red : 0
Luminance Adjustment Orange : 0
Luminance Adjustment Yellow : 0
Luminance Adjustment Green : 0
Luminance Adjustment Aqua : 0
Luminance Adjustment Blue : 0
Luminance Adjustment Purple : 0
Luminance Adjustment Magenta : 0
Split Toning Shadow Hue : 0
Split Toning Shadow Saturation : 0
Split Toning Highlight Hue : 0
Split Toning Highlight Saturation : 0
Split Toning Balance : 0
Color Grade Midtone Hue : 0
Color Grade Midtone Sat : 0
Color Grade Shadow Lum : 0
Color Grade Midtone Lum : 0
Color Grade Highlight Lum : 0
Color Grade Blending : 50
Color Grade Global Hue : 0
Color Grade Global Sat : 0
Color Grade Global Lum : 0
Auto Lateral CA : 0
Lens Profile Enable : 0
Lens Manual Distortion Amount : 0
Vignette Amount : 0
Defringe Purple Amount : 0
Defringe Purple Hue Lo : 30
Defringe Purple Hue Hi : 70
Defringe Green Amount : 0
Defringe Green Hue Lo : 40
Defringe Green Hue Hi : 60
Perspective Upright : Off
Perspective Vertical : 0
Perspective Horizontal : 0
Perspective Rotate : 0.0
Perspective Aspect : 0
Perspective Scale : 100
Perspective X : 0.00
Perspective Y : 0.00
Grain Amount : 0
Post Crop Vignette Amount : 0
Shadow Tint : 0
Red Hue : 0
Red Saturation : 0
Green Hue : 0
Green Saturation : 0
Blue Hue : 0
Blue Saturation : 0
HDR Edit Mode : 0
Convert To Grayscale : False
Override Look Vignette : False
Tone Curve Name 2012 : Linear
Camera Profile : Embedded
Has Settings : True
Crop Top : 0
Crop Left : 0.081592
Crop Bottom : 0.918408
Crop Right : 1
Crop Angle : 0
Crop Constrain To Warp : 0
Crop Constrain To Unit Square : 1
Has Crop : True
Already Applied : True
Rights : Richard Berter
Tone Curve PV2012 : 0, 0, 255, 255
Tone Curve PV2012 Red : 0, 0, 255, 255
Tone Curve PV2012 Green : 0, 0, 255, 255
Tone Curve PV2012 Blue : 0, 0, 255, 255
Point Colors : -1.000000, -1.000000, -1.000000, -1.000000, -1.000000, -1.000000, -1.000000, -1.000000, -1.000000, -1.000000, -1.000000, -1.000000, -1.000000, -1.000000, -1.000000, -1.000000, -1.000000, -1.000000, -1.000000
Color Variance : -50.000000
Image Width : 400
Image Height : 267
Bits Per Sample : 8
Color Components : 3
Aperture : 2.8
Image Size : 400x267
Megapixels : 0.107
Scale Factor To 35 mm Equivalent : 1.5
Shutter Speed : 1/125
Modify Date : 2026:02:12 21:23:08-05:00
Circle Of Confusion : 0.020 mm
Field Of View : 47.4 deg
Focal Length : 27.0 mm (35 mm equivalent: 41.0 mm)
Hyperfocal Distance : 13.16 m
Light Value : 5.9
Lens ID : XF27mm F2.8