Uber Exif Photo
Photometric Interpretation : RGB
Make : Leica Camera AG
Camera Model Name : LEICA M10-R
Orientation : Horizontal (normal)
Samples Per Pixel : 3
Software : Adobe Photoshop 27.2 (Windows)
Modify Date : 2026:01:04 16:15:04
Artist : John Baker
Copyright : John Baker M10R
Exposure Time : 1/90
F Number : 5.6
Exposure Program : Aperture-priority AE
ISO : 100
Date/Time Original : 2026:01:02 11:17:12
Create Date : 2026:01:02 11:17:12
Shutter Speed Value : 1/90
Aperture Value : 5.6
Exposure Compensation : 0
Max Aperture Value : 5.6
Metering Mode : Center-weighted average
Light Source : Unknown
Flash : No Flash
Focal Length : 28.0 mm
Color Space : sRGB
Exif Image Width : 1354
Exif Image Height : 2048
Scene Type : Directly photographed
Custom Rendered : Normal
Exposure Mode : Auto
White Balance : Auto
Digital Zoom Ratio : 0
Scene Capture Type : Standard
Contrast : Normal
Saturation : Normal
Sharpness : Normal
Serial Number : 5624822
Lens Info : 28mm f/5.6
Lens Make : Leica Camera AG
Lens Model : Summaron-M 1:5.6/28
Rating : 4
Creator Tool : Adobe Photoshop Lightroom Classic 15.1 (Windows)
Format : image/jpeg
Correction Already Applied : False
Pitch Angle : 4.1960000992
Roll Angle : 7.6920013428
Focal Length 35mm : 28.0000000000
Target Aspect Ratio : 1.5000000000
Scaling Factor Height : 0.8303440809
Valid Crop Corners : True
Apply Automatically : False
Lens : Summaron-M 1:5.6/28
Approximate Focus Distance : 4.62
Lateral Chromatic Aberration Correction Already Applied:
True
Color Mode : RGB
ICC Profile Name : sRGB IEC61966-2.1
Preserved File Name : L1006567.DNG
Pick : 0
Raw File Name : L1006567.DNG
Version : 18.1
Process Version : 15.4
Color Temperature : 5300
Tint : -3
Exposure 2012 : 0.00
Contrast 2012 : 0
Highlights 2012 : -74
Shadows 2012 : +39
Whites 2012 : -18
Blacks 2012 : 0
Texture : 0
Clarity 2012 : 0
Dehaze : 0
Vibrance : 0
Parametric Shadows : 0
Parametric Darks : 0
Parametric Lights : 0
Parametric Highlights : 0
Parametric Shadow Split : 25
Parametric Midtone Split : 50
Parametric Highlight Split : 75
Sharpen Radius : +1.0
Sharpen Detail : 25
Sharpen Edge Masking : 0
Luminance Smoothing : 25
Luminance Noise Reduction Detail : 50
Luminance Noise Reduction Contrast : 0
Color Noise Reduction : 25
Color Noise Reduction Detail : 50
Color Noise Reduction Smoothness : 50
Hue Adjustment Red : 0
Hue Adjustment Orange : 0
Hue Adjustment Yellow : 0
Hue Adjustment Green : 0
Hue Adjustment Aqua : 0
Hue Adjustment Blue : 0
Hue Adjustment Purple : 0
Hue Adjustment Magenta : 0
Saturation Adjustment Red : 0
Saturation Adjustment Orange : 0
Saturation Adjustment Yellow : 0
Saturation Adjustment Green : 0
Saturation Adjustment Aqua : 0
Saturation Adjustment Blue : 0
Saturation Adjustment Purple : 0
Saturation Adjustment Magenta : 0
Luminance Adjustment Red : 0
Luminance Adjustment Orange : 0
Luminance Adjustment Yellow : 0
Luminance Adjustment Green : 0
Luminance Adjustment Aqua : 0
Luminance Adjustment Blue : 0
Luminance Adjustment Purple : 0
Luminance Adjustment Magenta : 0
Split Toning Shadow Hue : 0
Split Toning Shadow Saturation : 0
Split Toning Highlight Hue : 0
Split Toning Highlight Saturation : 0
Split Toning Balance : 0
Color Grade Midtone Hue : 0
Color Grade Midtone Sat : 0
Color Grade Shadow Lum : 0
Color Grade Midtone Lum : 0
Color Grade Highlight Lum : 0
Color Grade Blending : 50
Color Grade Global Hue : 0
Color Grade Global Sat : 0
Color Grade Global Lum : 0
Auto Lateral CA : 1
Lens Profile Enable : 1
Lens Manual Distortion Amount : 0
Vignette Amount : 0
Defringe Purple Amount : 0
Defringe Purple Hue Lo : 30
Defringe Purple Hue Hi : 70
Defringe Green Amount : 0
Defringe Green Hue Lo : 40
Defringe Green Hue Hi : 60
Perspective Upright : Off
Perspective Vertical : 0
Perspective Horizontal : 0
Perspective Rotate : 0.0
Perspective Aspect : 0
Perspective Scale : 100
Perspective X : 0.00
Perspective Y : 0.00
Grain Amount : 0
Post Crop Vignette Amount : 0
Shadow Tint : 0
Red Hue : 0
Red Saturation : 0
Green Hue : 0
Green Saturation : 0
Blue Hue : 0
Blue Saturation : 0
HDR Edit Mode : 0
Override Look Vignette : False
Tone Curve Name 2012 : Linear
Camera Profile : Adobe Standard
Lens Profile Setup : LensDefaults
Has Settings : True
Crop Top : 0
Crop Left : 0
Crop Bottom : 1
Crop Right : 1
Crop Angle : 0
Crop Constrain To Warp : 0
Crop Constrain To Unit Square : 1
Has Crop : False
Already Applied : True
Creator : John Baker
Rights : John Baker M10R
Normalized Crop Corners : 0.0953273028, 0.1484348178, 0.9113569260, 0.0155373383, 0.9822988510, 0.8034127355, 0.1720040292, 1.0000000000
Tone Curve PV2012 : 0, 0, 255, 255
Tone Curve PV2012 Red : 0, 0, 255, 255
Tone Curve PV2012 Green : 0, 0, 255, 255
Tone Curve PV2012 Blue : 0, 0, 255, 255
Point Colors : -1.000000, -1.000000, -1.000000, -1.000000, -1.000000, -1.000000, -1.000000, -1.000000, -1.000000, -1.000000, -1.000000, -1.000000, -1.000000, -1.000000, -1.000000, -1.000000, -1.000000, -1.000000, -1.000000
Color Variance : -50.000000
Look Name : Adobe Color
Look Amount : 1
Look Supports Amount : false
Look Supports Monochrome : false
Look Supports Output Referred : false
Look Copyright : © 2018 Adobe Systems, Inc.
Look Group : Profiles
Look Parameters Version : 18.1
Look Parameters Process Version : 15.4
Look Parameters Convert To Grayscale : False
Look Parameters Camera Profile : Adobe Standard
Look Parameters Look Table : E1095149FDB39D7A057BAB208837E2E1
Look Parameters Tone Curve PV2012 : 0, 0, 22, 16, 40, 35, 127, 127, 224, 230, 240, 246, 255, 255
Look Parameters Tone Curve PV2012 Red : 0, 0, 255, 255
Look Parameters Tone Curve PV2012 Green : 0, 0, 255, 255
Look Parameters Tone Curve PV2012 Blue : 0, 0, 255, 255
Look Parameters Point Colors : -1.000000, -1.000000, -1.000000, -1.000000, -1.000000, -1.000000, -1.000000, -1.000000, -1.000000, -1.000000, -1.000000, -1.000000, -1.000000, -1.000000, -1.000000, -1.000000, -1.000000, -1.000000, -1.000000
Look Parameters Color Variance : -50.000000
By-line : John Baker
Date Created : 2026:01:02
Copyright Notice : John Baker M10R
Image Width : 264
Image Height : 400
Bits Per Sample : 8
Color Components : 3
Aperture : 5.6
Image Size : 264x400
Megapixels : 0.106
Scale Factor To 35 mm Equivalent : 3.8
Shutter Speed : 1/90
Modify Date : 2026:01:04 16:15:04+00:00
Circle Of Confusion : 0.008 mm
Depth Of Field : 2.55 m (3.67 - 6.22 m)
Field Of View : 19.1 deg
Focal Length : 28.0 mm (35 mm equivalent: 107.2 mm)
Hyperfocal Distance : 17.84 m
Light Value : 11.5
Lens ID : Summaron-M 1:5.6/28