Uber Exif Photo
Photometric Interpretation : BlackIsZero
Make : Leica Camera AG
Camera Model Name : LEICA M11 Monochrom
Orientation : Horizontal (normal)
Samples Per Pixel : 4
Software : Adobe Photoshop 25.0 (Macintosh)
Modify Date : 2024:02:23 15:59:07
Exposure Time : 1/12000
F Number : 1.4
Exposure Program : Aperture-priority AE
ISO : 125
Sensitivity Type : Standard Output Sensitivity
Standard Output Sensitivity : 125
ISO Speed : 125
Date/Time Original : 2024:02:22 23:29:22
Create Date : 2024:02:22 23:29:22
Shutter Speed Value : 1/12000
Aperture Value : 1.4
Exposure Compensation : -1
Max Aperture Value : 1.2
Metering Mode : Multi-segment
Light Source : Unknown
Flash : No Flash
Focal Length : 50.0 mm
Color Space : Uncalibrated
Exif Image Width : 2520
Exif Image Height : 1674
Scene Type : Directly photographed
Custom Rendered : Normal
Exposure Mode : Auto
Digital Zoom Ratio : 0
Scene Capture Type : Standard
Contrast : Normal
Sharpness : Normal
Serial Number : 5681747
Lens Info : 50mm f/1.2
Lens Make : Leica Camera AG
Lens Model : Noctilux-M 1:1.2/50
Version ID : 02.00
Rating : 0
Creator Tool : 2.0.2
Format : image/jpeg
Correction Already Applied : False
Pitch Angle : 1.2039999961
Roll Angle : -2.6559998989
Focal Length 35mm : 50.0000000000
Target Aspect Ratio : 1.5000000000
Scaling Factor Height : 0.9328340888
Valid Crop Corners : True
Apply Automatically : False
Lens : Noctilux-M 1:1.2/50
Approximate Focus Distance : 1.24
Date Created : 2024:02:22 23:29:22
Color Mode : Grayscale
ICC Profile Name : Gray Gamma 2.2
Version : 16.2
Process Version : 15.4
Exposure 2012 : 0.00
Contrast 2012 : 0
Highlights 2012 : +1
Shadows 2012 : 0
Whites 2012 : +23
Blacks 2012 : 0
Texture : +40
Clarity 2012 : +74
Dehaze : 0
Parametric Shadows : 0
Parametric Darks : 0
Parametric Lights : 0
Parametric Highlights : 0
Parametric Shadow Split : 25
Parametric Midtone Split : 50
Parametric Highlight Split : 75
Sharpen Radius : +1.0
Sharpen Detail : 25
Sharpen Edge Masking : 0
Luminance Smoothing : 5
Luminance Noise Reduction Detail : 50
Luminance Noise Reduction Contrast : 0
Split Toning Shadow Hue : 0
Split Toning Shadow Saturation : 0
Split Toning Highlight Hue : 0
Split Toning Highlight Saturation : 0
Split Toning Balance : 0
Color Grade Midtone Hue : 0
Color Grade Midtone Sat : 0
Color Grade Shadow Lum : 0
Color Grade Midtone Lum : 0
Color Grade Highlight Lum : 0
Color Grade Blending : 50
Color Grade Global Hue : 0
Color Grade Global Sat : 0
Color Grade Global Lum : 0
Lens Profile Enable : 1
Lens Manual Distortion Amount : 0
Vignette Amount : 0
Perspective Upright : Off
Perspective Vertical : 0
Perspective Horizontal : 0
Perspective Rotate : 0.0
Perspective Aspect : 0
Perspective Scale : 100
Perspective X : 0.00
Perspective Y : 0.00
Grain Amount : 0
Post Crop Vignette Amount : 0
HDR Edit Mode : 0
Override Look Vignette : False
Tone Curve Name 2012 : Linear
Lens Profile Setup : LensDefaults
Has Settings : True
Crop Top : 0
Crop Left : 0.043944
Crop Bottom : 1
Crop Right : 0.956056
Crop Angle : 2.469936
Crop Constrain To Warp : 0
Has Crop : True
Already Applied : True
Derived From Version ID : 02.00
Normalized Crop Corners : 0.0506244115, 0.0035226375, 0.9780879616, 0.0680590495, 0.9536596536, 1.0000000000, 0.0174289401, 0.9348535537
Tone Curve PV2012 : 0, 0, 255, 255
Tone Curve PV2012 Red : 0, 0, 255, 255
Tone Curve PV2012 Green : 0, 0, 255, 255
Tone Curve PV2012 Blue : 0, 0, 255, 255
Point Colors : -1.000000, -1.000000, -1.000000, -1.000000, -1.000000, -1.000000, -1.000000, -1.000000, -1.000000, -1.000000, -1.000000, -1.000000, -1.000000, -1.000000, -1.000000, -1.000000, -1.000000, -1.000000, -1.000000
Profile Description : Gray Gamma 2.2
Image Width : 400
Image Height : 266
Bits Per Sample : 8
Color Components : 1
Aperture : 1.4
Image Size : 400x266
Megapixels : 0.106
Scale Factor To 35 mm Equivalent : 3.8
Shutter Speed : 1/12000
Circle Of Confusion : 0.008 mm
Depth Of Field : 0.013 m (1.233 - 1.247 m)
Field Of View : 10.9 deg
Focal Length : 50.0 mm (35 mm equivalent: 189.0 mm)
Hyperfocal Distance : 224.70 m
Light Value : 14.2