Uber Exif Photo
Make : Leica Camera AG
Camera Model Name : LEICA M11 Monochrom
Orientation : Horizontal (normal)
Software : Adobe Photoshop 25.0 (Macintosh)
Modify Date : 2024:06:16 01:08:48
Exposure Time : 1/400
F Number : 16.0
Exposure Program : Aperture-priority AE
ISO : 400
Sensitivity Type : Standard Output Sensitivity
Standard Output Sensitivity : 400
ISO Speed : 400
Date/Time Original : 2024:03:13 02:59:16
Create Date : 2024:03:13 02:59:16
Shutter Speed Value : 1/400
Aperture Value : 16.0
Exposure Compensation : -0.333
Max Aperture Value : 1.4
Metering Mode : Multi-segment
Light Source : Unknown
Flash : No Flash
Focal Length : 35.0 mm
Color Space : Uncalibrated
Exif Image Width : 2287
Exif Image Height : 1519
Scene Type : Directly photographed
Custom Rendered : Normal
Exposure Mode : Auto
Digital Zoom Ratio : 0
Scene Capture Type : Standard
Contrast : Normal
Sharpness : Normal
Serial Number : 5681747
Lens Info : 35mm f/1.4
Lens Make : Leica Camera AG
Lens Model : Summilux-M 1:1.4/35 ASPH.
Version ID : 02.00
Rating : 0
Creator Tool : 2.0.2
Format : image/jpeg
Correction Already Applied : False
Pitch Angle : 7.4159998893
Roll Angle : -0.8730000257
Focal Length 35mm : 35.0000000000
Target Aspect Ratio : 1.5000000000
Scaling Factor Height : 0.9525772929
Valid Crop Corners : True
Apply Automatically : False
Lens : Summilux-M 1:1.4/35 ASPH.
Approximate Focus Distance : 34
Distortion Correction Already Applied : True
Date Created : 2024:03:13 02:59:16
Color Mode : Grayscale
ICC Profile Name : Gray Gamma 2.2
Version : 16.3
Process Version : 15.4
Exposure 2012 : 0.00
Contrast 2012 : +1
Highlights 2012 : -100
Shadows 2012 : +100
Whites 2012 : +46
Blacks 2012 : -40
Texture : +22
Clarity 2012 : +39
Dehaze : +24
Parametric Shadows : 0
Parametric Darks : 0
Parametric Lights : 0
Parametric Highlights : 0
Parametric Shadow Split : 25
Parametric Midtone Split : 50
Parametric Highlight Split : 75
Sharpen Radius : +1.0
Sharpen Detail : 25
Sharpen Edge Masking : 0
Luminance Smoothing : 10
Luminance Noise Reduction Detail : 50
Luminance Noise Reduction Contrast : 0
Split Toning Shadow Hue : 0
Split Toning Shadow Saturation : 0
Split Toning Highlight Hue : 0
Split Toning Highlight Saturation : 0
Split Toning Balance : 0
Color Grade Midtone Hue : 0
Color Grade Midtone Sat : 0
Color Grade Shadow Lum : 0
Color Grade Midtone Lum : 0
Color Grade Highlight Lum : 0
Color Grade Blending : 50
Color Grade Global Hue : 0
Color Grade Global Sat : 0
Color Grade Global Lum : 0
Lens Profile Enable : 1
Lens Manual Distortion Amount : 0
Vignette Amount : 0
Perspective Upright : Off
Perspective Vertical : 0
Perspective Horizontal : 0
Perspective Rotate : 0.0
Perspective Aspect : 0
Perspective Scale : 100
Perspective X : 0.00
Perspective Y : 0.00
Grain Amount : 0
Post Crop Vignette Amount : 0
HDR Edit Mode : 0
Override Look Vignette : False
Tone Curve Name 2012 : Linear
Lens Profile Setup : LensDefaults
Lens Profile Name : Adobe (Leica SUMMILUX-M 35 mm f/1.4 ASPH.)
Lens Profile Filename : Leica Camera AG (Leica SUMMILUX-M 35 mm f1.4 ASPH.) - RAW.lcp
Lens Profile Is Embedded : False
Lens Profile Distortion Scale : 100
Lens Profile Vignetting Scale : 100
Has Settings : True
Has Crop : False
Already Applied : True
Derived From Version ID : 02.00
Normalized Crop Corners : 0.0494932457, 0.0011312599, 0.9604308605, 0.0219524297, 0.9908319711, 0.9625687599, 0.0000000000, 0.9399214982
Tone Curve PV2012 : 0, 0, 255, 255
Tone Curve PV2012 Red : 0, 0, 255, 255
Tone Curve PV2012 Green : 0, 0, 255, 255
Tone Curve PV2012 Blue : 0, 0, 255, 255
Point Colors : -1.000000, -1.000000, -1.000000, -1.000000, -1.000000, -1.000000, -1.000000, -1.000000, -1.000000, -1.000000, -1.000000, -1.000000, -1.000000, -1.000000, -1.000000, -1.000000, -1.000000, -1.000000, -1.000000
Profile Description : Gray Gamma 2.2
Image Width : 400
Image Height : 266
Bits Per Sample : 8
Color Components : 1
Aperture : 16.0
Image Size : 400x266
Megapixels : 0.106
Scale Factor To 35 mm Equivalent : 4.2
Shutter Speed : 1/400
Circle Of Confusion : 0.007 mm
Depth Of Field : inf (8.10 m - inf)
Field Of View : 14.1 deg
Focal Length : 35.0 mm (35 mm equivalent: 145.8 mm)
Hyperfocal Distance : 10.62 m
Light Value : 14.6
Lens ID : Summilux-M 1:1.4/35 ASPH.