Uber Exif Photo
Make : Leica Camera AG
Camera Model Name : LEICA M11
Software : Adobe Photoshop Lightroom 6.14 (Windows)
Modify Date : 2023:07:09 09:45:48
Exposure Time : 1/100
F Number : 11.0
Exposure Program : Aperture-priority AE
ISO : 1000
Sensitivity Type : ISO Speed
ISO Speed : 1000
Date/Time Original : 2023:07:08 20:25:45
Create Date : 2023:07:08 20:25:45
Shutter Speed Value : 1/100
Aperture Value : 11.0
Exposure Compensation : 0
Max Aperture Value : 2.8
Metering Mode : Multi-segment
Light Source : Unknown
Flash : No Flash
Focal Length : 21.0 mm
Color Space : sRGB
Scene Type : Directly photographed
Custom Rendered : Normal
Exposure Mode : Auto
White Balance : Auto
Digital Zoom Ratio : 0
Scene Capture Type : Standard
Contrast : Normal
Saturation : Normal
Sharpness : Normal
Serial Number : 5587795
Lens Info : 21mm f/2.8
Lens Make : Leica Camera AG
Lens Model : Elmarit-M 1:2.8/21
Profile Description : sRGB IEC61966-2.1
Version ID : 02.00
Creator Tool : Adobe Photoshop Lightroom 6.14 (Windows)
Format : image/jpeg
Color Noise Reduction Smoothness : 50
Correction Already Applied : False
Pitch Angle : 4.1329998970
Roll Angle : -2.4560000896
Focal Length 35mm : 21.0000000000
Target Aspect Ratio : 1.5000000000
Scaling Factor Height : 0.9380640388
Valid Crop Corners : True
Apply Automatically : False
Lens : Elmarit-M 1:2.8/21
Date Created : 2023:07:08 20:25:45
Version : 10.1
Process Version : 6.7
Auto White Version : 134348800
Color Temperature : 5450
Tint : +7
Luminance Smoothing : 25
Color Noise Reduction : 0
Vignette Amount : 0
Shadow Tint : 0
Red Hue : 0
Red Saturation : 0
Green Hue : 0
Green Saturation : 0
Blue Hue : 0
Blue Saturation : 0
Gray Mixer Red : -9
Gray Mixer Orange : -18
Gray Mixer Yellow : -22
Gray Mixer Green : -26
Gray Mixer Aqua : -17
Gray Mixer Blue : +11
Gray Mixer Purple : +16
Gray Mixer Magenta : +4
Split Toning Shadow Hue : 0
Split Toning Shadow Saturation : 0
Split Toning Highlight Hue : 0
Split Toning Highlight Saturation : 0
Split Toning Balance : 0
Parametric Shadows : 0
Parametric Darks : 0
Parametric Lights : 0
Parametric Highlights : 0
Parametric Shadow Split : 25
Parametric Midtone Split : 50
Parametric Highlight Split : 75
Sharpen Radius : +1.0
Sharpen Detail : 25
Sharpen Edge Masking : 0
Post Crop Vignette Amount : 0
Grain Amount : 0
Luminance Noise Reduction Detail : 50
Luminance Noise Reduction Contrast : 0
Lens Profile Enable : 0
Lens Manual Distortion Amount : 0
Perspective Vertical : 0
Perspective Horizontal : 0
Perspective Rotate : 0.0
Perspective Scale : 100
Perspective Aspect : 0
Perspective Upright : Off
Perspective X : 0.00
Perspective Y : 0.00
Auto Lateral CA : 0
Exposure 2012 : +0.86
Contrast 2012 : +29
Highlights 2012 : -12
Shadows 2012 : +100
Whites 2012 : -44
Blacks 2012 : 0
Clarity 2012 : 0
Dehaze : 0
Tone Map Strength : 0
Convert To Grayscale : True
Tone Curve Name : Linear
Tone Curve Name 2012 : Linear
Camera Profile : PROFILE M11
Lens Profile Setup : LensDefaults
Has Settings : True
Crop Top : 0.180973
Crop Left : 0
Crop Bottom : 0.986409
Crop Right : 0.991012
Crop Angle : 0
Crop Constrain To Warp : 0
Has Crop : True
Already Applied : True
Derived From Version ID : 02.00
Normalized Crop Corners : 0.0628392771, 0.0040429123, 0.9638662934, 0.0620125979, 0.9733297825, 0.9976649284, 0.0000000000, 0.9350435138
Tone Curve : 0, 0, 255, 255
Tone Curve Red : 0, 0, 255, 255
Tone Curve Green : 0, 0, 255, 255
Tone Curve Blue : 0, 0, 255, 255
Tone Curve PV2012 : 0, 0, 255, 255
Tone Curve PV2012 Red : 0, 0, 255, 255
Tone Curve PV2012 Green : 0, 0, 255, 255
Tone Curve PV2012 Blue : 0, 0, 255, 255
Image Width : 400
Image Height : 216
Bits Per Sample : 8
Color Components : 3
Aperture : 11.0
Image Size : 400x216
Megapixels : 0.086
Shutter Speed : 1/100
Light Value : 10.2
Display settings: ORIGINAL format thumbnails | Fast loading WEBP thumbnails
Use Display settings menu option from the top menu to change