Uber Exif Photo
Photometric Interpretation : RGB
Make : FUJIFILM
Camera Model Name : X-E3
Orientation : Horizontal (normal)
Samples Per Pixel : 3
Software : Adobe Photoshop 26.7 (Windows)
Modify Date : 2025:06:16 03:11:19
Artist :
Exposure Time : 1/340
F Number : 1.0
Exposure Program : Aperture-priority AE
ISO : 800
Sensitivity Type : Standard Output Sensitivity
Date/Time Original : 2025:06:15 18:46:39
Create Date : 2025:06:15 18:46:39
Shutter Speed Value : 1/340
Aperture Value : 1.0
Brightness Value : 0.54
Exposure Compensation : -0.33
Metering Mode : Multi-segment
Light Source : Unknown
Flash : No Flash
Focal Length : 40.0 mm
Color Space : sRGB
Exif Image Width : 2400
Exif Image Height : 1600
Sensing Method : One-chip color area
Scene Type : Directly photographed
Custom Rendered : Normal
Exposure Mode : Auto
White Balance : Auto
Focal Length In 35mm Format : 60 mm
Scene Capture Type : Standard
Sharpness : Soft
Subject Distance Range : Unknown
Serial Number : 9CA00631
Lens Info : 40mm f/?
Lens Model : 40.0 mm
By-line :
Creator Tool : Adobe Photoshop Lightroom Classic 14.3.1 (Windows)
Fuji Rating Already Applied : True
Lens : 40.0 mm
Date Created : 2025:06:15 18:46:39
Color Mode : RGB
ICC Profile Name : sRGB IEC61966-2.1
Preserved File Name : DSCF0095.JPG
Format : image/jpeg
Pick : 0
Raw File Name : DSCF0095.JPG
Version : 17.3.1
Process Version : 15.4
Incremental Temperature : +2
Incremental Tint : +12
Exposure 2012 : 0.00
Contrast 2012 : 0
Highlights 2012 : 0
Shadows 2012 : 0
Whites 2012 : 0
Blacks 2012 : 0
Texture : 0
Clarity 2012 : 0
Dehaze : 0
Vibrance : 0
Saturation : 0
Parametric Shadows : 0
Parametric Darks : 0
Parametric Lights : 0
Parametric Highlights : 0
Parametric Shadow Split : 25
Parametric Midtone Split : 50
Parametric Highlight Split : 75
Sharpen Radius : +3.0
Sharpen Detail : 100
Sharpen Edge Masking : 25
Luminance Smoothing : 24
Luminance Noise Reduction Detail : 50
Luminance Noise Reduction Contrast : 0
Color Noise Reduction : 25
Color Noise Reduction Detail : 50
Color Noise Reduction Smoothness : 50
Hue Adjustment Red : +2
Hue Adjustment Orange : +8
Hue Adjustment Yellow : +15
Hue Adjustment Green : +18
Hue Adjustment Aqua : +12
Hue Adjustment Blue : +5
Hue Adjustment Purple : +4
Hue Adjustment Magenta : +36
Saturation Adjustment Red : +31
Saturation Adjustment Orange : +24
Saturation Adjustment Yellow : +21
Saturation Adjustment Green : 0
Saturation Adjustment Aqua : +92
Saturation Adjustment Blue : -19
Saturation Adjustment Purple : +30
Saturation Adjustment Magenta : +18
Luminance Adjustment Red : +8
Luminance Adjustment Orange : -3
Luminance Adjustment Yellow : -2
Luminance Adjustment Green : +2
Luminance Adjustment Aqua : +7
Luminance Adjustment Blue : -6
Luminance Adjustment Purple : +4
Luminance Adjustment Magenta : +9
Split Toning Shadow Hue : 0
Split Toning Shadow Saturation : 0
Split Toning Highlight Hue : 0
Split Toning Highlight Saturation : 0
Split Toning Balance : 0
Color Grade Midtone Hue : 0
Color Grade Midtone Sat : 0
Color Grade Shadow Lum : 0
Color Grade Midtone Lum : 0
Color Grade Highlight Lum : 0
Color Grade Blending : 50
Color Grade Global Hue : 0
Color Grade Global Sat : 0
Color Grade Global Lum : 0
Auto Lateral CA : 0
Lens Profile Enable : 0
Lens Manual Distortion Amount : 0
Vignette Amount : 0
Defringe Purple Amount : 0
Defringe Purple Hue Lo : 30
Defringe Purple Hue Hi : 70
Defringe Green Amount : 0
Defringe Green Hue Lo : 40
Defringe Green Hue Hi : 60
Perspective Upright : Off
Perspective Vertical : 0
Perspective Horizontal : 0
Perspective Rotate : 0.0
Perspective Aspect : 0
Perspective Scale : 100
Perspective X : 0.00
Perspective Y : 0.00
Grain Amount : 0
Post Crop Vignette Amount : 0
Shadow Tint : 0
Red Hue : 0
Red Saturation : 0
Green Hue : 0
Green Saturation : 0
Blue Hue : 0
Blue Saturation : 0
HDR Edit Mode : 0
Curve Refine Saturation : 100
Convert To Grayscale : False
Override Look Vignette : False
Tone Curve Name 2012 : Custom
Camera Profile : Embedded
Has Settings : True
Crop Top : 0
Crop Left : 0
Crop Bottom : 1
Crop Right : 1
Crop Angle : 0
Crop Constrain To Warp : 0
Crop Constrain To Unit Square : 1
Has Crop : False
Already Applied : True
Creator :
Tone Curve PV2012 : 0, 0, 46, 25, 104, 87, 161, 146, 208, 198, 230, 226, 241, 239, 255, 255
Tone Curve PV2012 Red : 0, 0, 255, 255
Tone Curve PV2012 Green : 0, 0, 255, 255
Tone Curve PV2012 Blue : 0, 0, 255, 255
Point Colors : -1.000000, -1.000000, -1.000000, -1.000000, -1.000000, -1.000000, -1.000000, -1.000000, -1.000000, -1.000000, -1.000000, -1.000000, -1.000000, -1.000000, -1.000000, -1.000000, -1.000000, -1.000000, -1.000000
Profile Description : sRGB IEC61966-2.1
Image Width : 400
Image Height : 267
Bits Per Sample : 8
Color Components : 3
Aperture : 1.0
Image Size : 400x267
Megapixels : 0.107
Scale Factor To 35 mm Equivalent : 1.5
Shutter Speed : 1/340
Modify Date : 2025:06:16 03:11:19-04:00
Circle Of Confusion : 0.020 mm
Field Of View : 33.4 deg
Focal Length : 40.0 mm (35 mm equivalent: 60.0 mm)
Hyperfocal Distance : 79.88 m
Light Value : 5.4
Lens ID : 40.0mm