Uber Exif Photo
Copyright Notice : Patrik Nellhag
Copyright Flag : True
Make : Leica Camera AG
Camera Model Name : M8 Digital Camera
Software : 2.005
Modify Date : 2010:11:15 08:51:37
Copyright : Patrik Nellhag
Exposure Time : 1/60
F Number : 2.8
Exposure Program : Aperture-priority AE
ISO : 160
Sensitivity Type : Unknown
Date/Time Original : 2010:11:14 14:58:13
Create Date : 2010:11:14 14:58:13
Shutter Speed Value : 1/60
Aperture Value : 2.8
Exposure Compensation : 0
Max Aperture Value : 1.0
Metering Mode : Center-weighted average
Light Source : Unknown
Scene Type : Directly photographed
White Balance : Auto
Digital Zoom Ratio : 0
Scene Capture Type : Standard
Serial Number : 3329524
Profile Description : Adobe RGB (1998)
Date/Time Digitized : 2010:11:14 14:58:13+01:00
Exif Image Width : 673
Exif Image Height : 1000
Creator Tool : Adobe Photoshop Lightroom
Rating : 5
Marked : True
Version : 6.2
Process Version : 5.7
Color Temperature : 6850
Tint : -2
Exposure : +0.35
Shadows : 43
Brightness : +45
Contrast : 0
Saturation : -32
Sharpness : 25
Luminance Smoothing : 0
Color Noise Reduction : 25
Chromatic Aberration R : 0
Chromatic Aberration B : 0
Vignette Amount : -100
Vignette Midpoint : 20
Shadow Tint : 0
Red Hue : 0
Red Saturation : 0
Green Hue : 0
Green Saturation : 0
Blue Hue : 0
Blue Saturation : 0
Fill Light : 25
Vibrance : -7
Highlight Recovery : 20
Clarity : +55
Defringe : 0
Hue Adjustment Red : 0
Hue Adjustment Orange : 0
Hue Adjustment Yellow : 0
Hue Adjustment Green : 0
Hue Adjustment Aqua : 0
Hue Adjustment Blue : 0
Hue Adjustment Purple : 0
Hue Adjustment Magenta : 0
Saturation Adjustment Red : 0
Saturation Adjustment Orange : 0
Saturation Adjustment Yellow : 0
Saturation Adjustment Green : 0
Saturation Adjustment Aqua : 0
Saturation Adjustment Blue : 0
Saturation Adjustment Purple : 0
Saturation Adjustment Magenta : 0
Luminance Adjustment Red : 0
Luminance Adjustment Orange : 0
Luminance Adjustment Yellow : 0
Luminance Adjustment Green : 0
Luminance Adjustment Aqua : 0
Luminance Adjustment Blue : 0
Luminance Adjustment Purple : 0
Luminance Adjustment Magenta : 0
Split Toning Shadow Hue : 55
Split Toning Shadow Saturation : 0
Split Toning Highlight Hue : 55
Split Toning Highlight Saturation : 0
Split Toning Balance : +53
Parametric Shadows : +8
Parametric Darks : -2
Parametric Lights : +2
Parametric Highlights : 0
Parametric Shadow Split : 14
Parametric Midtone Split : 50
Parametric Highlight Split : 75
Sharpen Radius : +1.0
Sharpen Detail : 25
Sharpen Edge Masking : 0
Post Crop Vignette Amount : -5
Post Crop Vignette Midpoint : 50
Post Crop Vignette Feather : 100
Post Crop Vignette Roundness : 0
Post Crop Vignette Style : Highlight Priority
Post Crop Vignette Highlight Contrast : 0
Grain Amount : 0
Color Noise Reduction Detail : 50
Lens Profile Enable : 0
Lens Manual Distortion Amount : 0
Perspective Vertical : 0
Perspective Horizontal : 0
Perspective Rotate : 0.0
Perspective Scale : 100
Convert To Grayscale : False
Tone Curve Name : Medium Contrast
Camera Profile : Adobe Standard
Lens Profile Setup : LensDefaults
Has Settings : True
Crop Top : 0.120643
Crop Left : 0.036728
Crop Bottom : 0.956286
Crop Right : 0.910813
Crop Angle : -1.18306
Crop Constrain To Warp : 0
Crop Width : 1000
Crop Height : 673
Crop Unit : pixels
Has Crop : True
Already Applied : True
Flash Fired : False
Flash Return : No return detection
Flash Mode : Auto
Flash Function : False
Flash Red Eye Mode : False
Rights : Patrik Nellhag
Tone Curve : 0, 0, 32, 22, 64, 56, 128, 128, 192, 196, 255, 255
Image Width : 202
Image Height : 300
Bits Per Sample : 8
Color Components : 3
Aperture : 2.8
Image Size : 202x300
Megapixels : 0.061
Scale Factor To 35 mm Equivalent : 5.3
Shutter Speed : 1/60
Flash : Auto, Did not fire
Circle Of Confusion : 0.006 mm
Light Value : 8.2