Uber Exif Photo
By-line : Michael Weaver
Country-Primary Location Name : USA
Copyright Notice : (C) 2011 Michael Weaver, All right reserved
Copyright Flag : True
Make : Leica Camera AG
Camera Model Name : M8 Digital Camera
Software : Adobe Photoshop Lightroom 3.4.1
Modify Date : 2011:08:18 16:48:19
Artist : Michael Weaver
Copyright : (C) 2011 Michael Weaver, All right reserved
Exposure Time : 1/350
F Number : 6.7
Exposure Program : Aperture-priority AE
ISO : 320
Date/Time Original : 2011:06:18 16:48:05
Create Date : 2011:06:18 16:48:05
Shutter Speed Value : 1/350
Aperture Value : 6.7
Exposure Compensation : 0
Max Aperture Value : 4.0
Metering Mode : Center-weighted average
Light Source : Unknown
Flash : Auto, Did not fire
Focal Length : 18.0 mm
Scene Type : Directly photographed
White Balance : Auto
Digital Zoom Ratio : 0
Focal Length In 35mm Format : 24 mm
Scene Capture Type : Standard
Serial Number : 3196228
Lens Model : Leica Tri-Elmar-M 16-18-21mm f/4 ASPH.
Profile Description : sRGB IEC61966-2.1
Creator Tool : Adobe Photoshop Lightroom 3.4.1
Lens : Leica Tri-Elmar-M 16-18-21mm f/4 ASPH.
Date Created : 2011:06:18 16:48:05
Country : USA
Credit : (C) 2011 Michael Weaver, All rights reserved
Marked : True
Version : 6.4.1
Process Version : 5.7
Color Temperature : 6850
Tint : +2
Exposure : +0.87
Shadows : 6
Brightness : +107
Contrast : +48
Saturation : +10
Sharpness : 25
Luminance Smoothing : 0
Color Noise Reduction : 25
Chromatic Aberration R : 0
Chromatic Aberration B : 0
Vignette Amount : 0
Shadow Tint : 0
Red Hue : 0
Red Saturation : 0
Green Hue : 0
Green Saturation : 0
Blue Hue : 0
Blue Saturation : 0
Fill Light : 0
Vibrance : +10
Highlight Recovery : 13
Clarity : +10
Defringe : 0
Hue Adjustment Red : 0
Hue Adjustment Orange : 0
Hue Adjustment Yellow : 0
Hue Adjustment Green : 0
Hue Adjustment Aqua : 0
Hue Adjustment Blue : 0
Hue Adjustment Purple : 0
Hue Adjustment Magenta : 0
Saturation Adjustment Red : 0
Saturation Adjustment Orange : 0
Saturation Adjustment Yellow : 0
Saturation Adjustment Green : 0
Saturation Adjustment Aqua : 0
Saturation Adjustment Blue : 0
Saturation Adjustment Purple : 0
Saturation Adjustment Magenta : 0
Luminance Adjustment Red : 0
Luminance Adjustment Orange : 0
Luminance Adjustment Yellow : 0
Luminance Adjustment Green : 0
Luminance Adjustment Aqua : 0
Luminance Adjustment Blue : 0
Luminance Adjustment Purple : 0
Luminance Adjustment Magenta : 0
Split Toning Shadow Hue : 0
Split Toning Shadow Saturation : 0
Split Toning Highlight Hue : 0
Split Toning Highlight Saturation : 0
Split Toning Balance : 0
Parametric Shadows : +40
Parametric Darks : +30
Parametric Lights : 0
Parametric Highlights : -30
Parametric Shadow Split : 25
Parametric Midtone Split : 50
Parametric Highlight Split : 75
Sharpen Radius : +1.0
Sharpen Detail : 25
Sharpen Edge Masking : 0
Post Crop Vignette Amount : 0
Grain Amount : 0
Color Noise Reduction Detail : 50
Lens Profile Enable : 0
Lens Manual Distortion Amount : +8
Perspective Vertical : 0
Perspective Horizontal : 0
Perspective Rotate : 0.0
Perspective Scale : 100
Convert To Grayscale : False
Tone Curve Name : Medium Contrast
Camera Profile : Adobe Standard
Lens Profile Setup : LensDefaults
Has Settings : True
Crop Top : 0.083305
Crop Left : 0.069303
Crop Bottom : 1
Crop Right : 0.899442
Crop Angle : 1.43604
Crop Constrain To Warp : 0
Crop Width : 3310
Crop Height : 2333
Crop Unit : pixels
Has Crop : True
Already Applied : True
Creator Postal Code : 62031
Creator Work Email : michaelrweaver@gmail.com
Creator Work Telephone : 618-376-3154
Creator Region : IL
Creator Country : USA
Creator City : Fieldon
Creator Address : 25670 Dark Hollow Road
Creator Work URL : michaelweaver.zenfolio.com
Usage Terms : No use without written permission.
Creator : Michael Weaver
Rights : (C) 2011 Michael Weaver, All right reserved
Tone Curve : 0, 0, 32, 22, 64, 56, 128, 128, 192, 196, 255, 255
Paint Correction What : Correction
Paint Correction Amount : 1.000000
Paint Correction Active : true
Paint Correction Exposure : -0.098000
Paint Correction Saturation : 0.122000
Paint Correction Contrast : 0.024000
Paint Correction Clarity : 0.293000
Paint Correction Sharpness : 0.220000
Paint Correction Brightness : -0.073000
Paint Correction Toning Hue : 61.000000
Paint Correction Toning Saturation : 0.010000
Paint Correction Mask What : Mask/Paint
Paint Correction Mask Value : 1.000000
Paint Correction Mask Radius : 0.025187
Paint Correction Mask Flow : 0.705000
Paint Correction Mask Center Weight : 0.000000
Image Width : 300
Image Height : 211
Bits Per Sample : 8
Color Components : 3
Aperture : 6.7
Image Size : 300x211
Megapixels : 0.063
Scale Factor To 35 mm Equivalent : 1.3
Shutter Speed : 1/350
Circle Of Confusion : 0.023 mm
Field Of View : 73.7 deg
Focal Length : 18.0 mm (35 mm equivalent: 24.0 mm)
Hyperfocal Distance : 2.15 m
Light Value : 12.3
Lens ID : Tri-Elmar-M 16-18-21mm f/4 ASPH.