Uber Exif Photo
Make : Leica Camera AG
Camera Model Name : M8 Digital Camera
Orientation : Horizontal (normal)
Software : Adobe Photoshop CS5 Macintosh
Modify Date : 2011:12:22 20:37:21
Exposure Time : 1/350
F Number : 5.7
Exposure Program : Aperture-priority AE
ISO : 320
Date/Time Original : 2011:12:22 11:49:17
Create Date : 2011:12:22 11:49:17
Shutter Speed Value : 1/350
Aperture Value : 5.7
Exposure Compensation : 0
Max Aperture Value : 1.0
Metering Mode : Center-weighted average
Light Source : Unknown
Flash : Auto, Did not fire
Color Space : Uncalibrated
Exif Image Width : 1175
Exif Image Height : 790
Scene Type : Directly photographed
White Balance : Manual
Digital Zoom Ratio : 0
Scene Capture Type : Standard
Serial Number : 3104624
Creator Tool : Adobe Photoshop CS5 Macintosh
Date Created : 2011:12:22 11:49:17
Color Mode : RGB
ICC Profile Name : Adobe RGB (1998)
Format : image/jpeg
Version : 6.6
Process Version : 5.7
Color Temperature : 5700
Tint : +14
Exposure : -0.70
Shadows : 16
Brightness : +50
Contrast : +25
Sharpness : 65
Luminance Smoothing : 0
Color Noise Reduction : 25
Chromatic Aberration R : 0
Chromatic Aberration B : 0
Vignette Amount : 0
Shadow Tint : 0
Red Hue : 0
Red Saturation : 0
Green Hue : 0
Green Saturation : 0
Blue Hue : 0
Blue Saturation : 0
Fill Light : 12
Highlight Recovery : 26
Clarity : 0
Defringe : 0
Gray Mixer Red : -21
Gray Mixer Orange : 0
Gray Mixer Yellow : 0
Gray Mixer Green : -19
Gray Mixer Aqua : -47
Gray Mixer Blue : +8
Gray Mixer Purple : 0
Gray Mixer Magenta : 0
Split Toning Shadow Hue : 0
Split Toning Shadow Saturation : 0
Split Toning Highlight Hue : 0
Split Toning Highlight Saturation : 0
Split Toning Balance : 0
Parametric Shadows : -26
Parametric Darks : -12
Parametric Lights : +25
Parametric Highlights : 0
Parametric Shadow Split : 25
Parametric Midtone Split : 50
Parametric Highlight Split : 75
Sharpen Radius : +0.6
Sharpen Detail : 25
Sharpen Edge Masking : 14
Post Crop Vignette Amount : 0
Grain Amount : 0
Color Noise Reduction Detail : 50
Lens Profile Enable : 0
Lens Manual Distortion Amount : 0
Perspective Vertical : 0
Perspective Horizontal : 0
Perspective Rotate : 0.0
Perspective Scale : 100
Convert To Grayscale : True
Tone Curve Name : Medium Contrast
Camera Profile : Adobe Standard
Lens Profile Setup : LensDefaults
Has Settings : True
Has Crop : False
Already Applied : True
Tone Curve : 0, 0, 32, 22, 64, 56, 128, 128, 192, 196, 255, 255
Paint Correction What : Correction
Paint Correction Amount : 1.000000
Paint Correction Active : true
Paint Correction Exposure : 0.000000
Paint Correction Saturation : 0.000000
Paint Correction Contrast : 0.000000
Paint Correction Clarity : 0.000000
Paint Correction Sharpness : 0.000000
Paint Correction Brightness : 0.000000
Paint Correction Toning Hue : 240.000000
Paint Correction Toning Saturation : 0.000000
Paint Correction Mask What : Mask/Paint
Paint Correction Mask Value : 1.000000
Paint Correction Mask Radius : 0.003918
Paint Correction Mask Flow : 0.904381
Paint Correction Mask Center Weight : 0.034562
Image Width : 300
Image Height : 202
Bits Per Sample : 8
Color Components : 1
Aperture : 5.7
Image Size : 300x202
Megapixels : 0.061
Scale Factor To 35 mm Equivalent : 4.5
Shutter Speed : 1/350
Circle Of Confusion : 0.007 mm
Light Value : 11.8