Uber Exif Photo
Make : Leica Camera AG
Camera Model Name : LEICA M11 Monochrom
Orientation : Horizontal (normal)
Software : Adobe Photoshop 25.12 (Macintosh)
Modify Date : 2024:12:17 23:18:16
Exposure Time : 1/640
F Number : 2.0
Exposure Program : Aperture-priority AE
ISO : 400
Sensitivity Type : Standard Output Sensitivity
Standard Output Sensitivity : 400
ISO Speed : 400
Date/Time Original : 2024:12:17 20:00:43
Create Date : 2024:12:17 20:00:43
Shutter Speed Value : 1/640
Aperture Value : 2.0
Exposure Compensation : -2/3
Max Aperture Value : 2.0
Metering Mode : Other
Light Source : Unknown
Flash : No Flash
Focal Length : 75.0 mm
Color Space : Uncalibrated
Exif Image Width : 2743
Exif Image Height : 2287
Scene Type : Directly photographed
Custom Rendered : Normal
Exposure Mode : Auto
Digital Zoom Ratio : 0
Scene Capture Type : Standard
Contrast : Normal
Sharpness : Normal
Serial Number : 5681747
Lens Info : 75mm f/2
Lens Make : Leica Camera AG
Lens Model : Apo-Summicron-M 1:2/75 ASPH .
Version ID : 02.00
Rating : 0
Creator Tool : 2.1.3
Format : image/jpeg
Correction Already Applied : False
Pitch Angle : -2.2550001144
Roll Angle : -0.9739990234
Focal Length 35mm : 75.0000000000
Target Aspect Ratio : 1.5000000000
Scaling Factor Height : 0.9674438238
Valid Crop Corners : True
Apply Automatically : False
Lens : Apo-Summicron-M 1:2/75 ASPH .
Approximate Focus Distance : 1.65
Distortion Correction Already Applied : True
Date Created : 2024:12:17 20:00:43
Color Mode : Grayscale
ICC Profile Name : Gray Gamma 1.8
Version : 16.5
Compatible Version : 251854848
Process Version : 15.4
Exposure 2012 : +0.75
Contrast 2012 : +41
Highlights 2012 : -28
Shadows 2012 : +42
Whites 2012 : 0
Blacks 2012 : -3
Texture : +18
Clarity 2012 : -24
Dehaze : +13
Parametric Shadows : 0
Parametric Darks : 0
Parametric Lights : 0
Parametric Highlights : 0
Parametric Shadow Split : 25
Parametric Midtone Split : 50
Parametric Highlight Split : 75
Sharpen Radius : +1.0
Sharpen Detail : 25
Sharpen Edge Masking : 0
Luminance Smoothing : 10
Luminance Noise Reduction Detail : 50
Luminance Noise Reduction Contrast : 0
Split Toning Shadow Hue : 0
Split Toning Shadow Saturation : 0
Split Toning Highlight Hue : 0
Split Toning Highlight Saturation : 0
Split Toning Balance : 0
Color Grade Midtone Hue : 0
Color Grade Midtone Sat : 0
Color Grade Shadow Lum : 0
Color Grade Midtone Lum : 0
Color Grade Highlight Lum : 0
Color Grade Blending : 50
Color Grade Global Hue : 0
Color Grade Global Sat : 0
Color Grade Global Lum : 0
Lens Profile Enable : 1
Lens Manual Distortion Amount : 0
Vignette Amount : 0
Perspective Upright : Off
Perspective Vertical : 0
Perspective Horizontal : 0
Perspective Rotate : 0.0
Perspective Aspect : 0
Perspective Scale : 100
Perspective X : 0.00
Perspective Y : 0.00
Grain Amount : 0
Post Crop Vignette Amount : 0
HDR Edit Mode : 0
Curve Refine Saturation : 100
Override Look Vignette : False
Tone Curve Name 2012 : Custom
Lens Profile Setup : LensDefaults
Lens Profile Name : Adobe (Leica APO-SUMMICRON-M 75 mm f/2 ASPH.)
Lens Profile Filename : Leica Camera AG (Leica APO-SUMMICRON-M 75 mm f2 ASPH.) - RAW.lcp
Lens Profile Is Embedded : False
Lens Profile Distortion Scale : 100
Lens Profile Vignetting Scale : 100
Has Settings : True
Has Crop : False
Already Applied : True
Derived From Version ID : 02.00
Normalized Crop Corners : 0.0112404245, 0.0082636447, 0.9774072170, 0.0240673031, 0.9663459062, 1.0000000000, 0.0003793406, 0.9665309786
Tone Curve PV2012 : 0, 0, 96, 151, 196, 255
Tone Curve PV2012 Red : 0, 0, 255, 255
Tone Curve PV2012 Green : 0, 0, 255, 255
Tone Curve PV2012 Blue : 0, 0, 255, 255
Point Colors : -1.000000, -1.000000, -1.000000, -1.000000, -1.000000, -1.000000, -1.000000, -1.000000, -1.000000, -1.000000, -1.000000, -1.000000, -1.000000, -1.000000, -1.000000, -1.000000, -1.000000, -1.000000, -1.000000
100
2
true
0
false
8E8E20EBD4F840F381E907E3E4204E04
Profile Description : Gray Gamma 1.8
Image Width : 400
Image Height : 334
Bits Per Sample : 8
Color Components : 1
Aperture : 2.0
Image Size : 400x334
Megapixels : 0.134
Scale Factor To 35 mm Equivalent : 3.2
Shutter Speed : 1/640
Circle Of Confusion : 0.009 mm
Depth Of Field : 0.017 m (1.641 - 1.659 m)
Field Of View : 8.6 deg
Focal Length : 75.0 mm (35 mm equivalent: 240.2 mm)
Hyperfocal Distance : 299.79 m
Light Value : 9.3
Lens ID : Apo-Summicron-M 1:2/75 ASPH .